BEGIN:VCALENDAR
VERSION:2.0
PRODID:-//www.adoptionnetwork.org//NONSGML kigkonsult.se iCalcreator 2.30.1
 0//
CALSCALE:GREGORIAN
METHOD:PUBLISH
UID:accc74bb-46f3-43c3-a741-d2fa91359ea5
X-WR-CALDESC:The Cleveland International Film Festival screening of the riv
 eting documentary film 'Three Identical Strangers.' In New York in 1980\, 
 three 19-year-old strangers discover that they are identical triplets. Sep
 arated at birth\, adopted\, and raised by three different families\, the t
 riplets suddenly become famous around the world. But their story also sets
  off a chain of events that reveals an extraordinary and sinister secret t
 hat could answer controversial questions at the heart of human behavior.
X-WR-RELCALID:3fcb159c57781e1040f984e13c72c184
X-WR-TIMEZONE:America/New_York
BEGIN:VTIMEZONE
TZID:America/New_York
BEGIN:STANDARD
TZNAME:EST
DTSTART:20171105T020000
TZOFFSETFROM:-0400
TZOFFSETTO:-0500
RDATE:20181104T020000
END:STANDARD
BEGIN:DAYLIGHT
TZNAME:EDT
DTSTART:20180311T020000
TZOFFSETFROM:-0500
TZOFFSETTO:-0400
RDATE:20190310T020000
END:DAYLIGHT
END:VTIMEZONE
BEGIN:VEVENT
UID:2af032ba-4f27-4f42-a62a-887f9d6513c3
DTSTAMP:20260424T065914Z
DESCRIPTION:The Cleveland International Film Festival screening of the rive
 ting documentary film 'Three Identical Strangers.' In New York in 1980\, t
 hree 19-year-old strangers discover that they are identical triplets. Sepa
 rated at birth\, adopted\, and raised by three different families\, the tr
 iplets suddenly become famous around the world. But their story also sets 
 off a chain of events that reveals an extraordinary and sinister secret th
 at could answer controversial questions at the heart of human behavior.
DTSTART;TZID=America/New_York:20180407T184000
DTEND;TZID=America/New_York:20180407T201000
LOCATION:Tower City Cinemas
SUMMARY:CIFF42 Screening of Three Identical Strangers
END:VEVENT
END:VCALENDAR
