BEGIN:VCALENDAR
VERSION:2.0
PRODID:-//www.adoptionnetwork.org//NONSGML kigkonsult.se iCalcreator 2.30.1
 0//
CALSCALE:GREGORIAN
METHOD:PUBLISH
UID:b1944ee0-ca68-4287-aa62-371b0ea37e4c
X-WR-CALDESC:Outreach and Development Committee\nChair:  Anita Miller\n\nUs
 ing new and traditional media\, the Outreach and Development Committee see
 ks to raise awareness about foster care and adoption issues as well as the
  programs and services that Adoption Network Cleveland offers to address t
 hese issues.  In addition\, the committee oversees the development of fina
 ncial resources from individuals\, foundations\, corporations and governme
 nt sources in order to ensure that the organization has the funds necessar
 y to implement these programs and services.   \n\nFor more information or 
 to inquire about joining the committee\, please contact Tammy Willet  at (
 216) 482-2319 or Tammy.Willet@adoptionnetwork.org  \n
X-WR-RELCALID:54af47a175d612020a29a2477364fd7f
X-WR-TIMEZONE:America/New_York
BEGIN:VTIMEZONE
TZID:America/New_York
BEGIN:STANDARD
TZNAME:EST
DTSTART:20181104T020000
TZOFFSETFROM:-0400
TZOFFSETTO:-0500
RDATE:20191103T020000
RDATE:20201101T020000
END:STANDARD
BEGIN:DAYLIGHT
TZNAME:EDT
DTSTART:20190310T020000
TZOFFSETFROM:-0500
TZOFFSETTO:-0400
RDATE:20200308T020000
RDATE:20210314T020000
END:DAYLIGHT
END:VTIMEZONE
BEGIN:VEVENT
UID:77374a05-f6f0-4ebc-b5e4-5d621192f1a7
DTSTAMP:20260421T053431Z
DESCRIPTION:Outreach and Development Committee\nChair:  Anita Miller\n\nUsi
 ng new and traditional media\, the Outreach and Development Committee seek
 s to raise awareness about foster care and adoption issues as well as the 
 programs and services that Adoption Network Cleveland offers to address th
 ese issues.  In addition\, the committee oversees the development of finan
 cial resources from individuals\, foundations\, corporations and governmen
 t sources in order to ensure that the organization has the funds necessary
  to implement these programs and services.   \n\nFor more information or t
 o inquire about joining the committee\, please contact Tammy Willet  at (2
 16) 482-2319 or Tammy.Willet@adoptionnetwork.org  \n
DTSTART;TZID=America/New_York:20190920T083000
DTEND;TZID=America/New_York:20190920T100000
LOCATION:Adoption Network Cleveland\, 4614 Prospect Ave\, Cleveland\, OH 44
 103
SUMMARY:Outreach & Development Committee Meeting
END:VEVENT
END:VCALENDAR
