BEGIN:VCALENDAR
VERSION:2.0
PRODID:-//www.adoptionnetwork.org//NONSGML kigkonsult.se iCalcreator 2.30.1
 0//
CALSCALE:GREGORIAN
METHOD:PUBLISH
UID:5064b87d-5d4e-404e-bd0c-a8f61e3504a0
X-WR-CALDESC:“Realize it is Time to Empathize\,' \nTrainer: Anthony Preside
 nt\n\nTo register: private agency foster parents should have their agency 
 worker contact Nefertiti McKinney at (216) 881-4048\; public agency foster
  parents should register online at the OCWTP website\; adoptive and kinshi
 p parents can contact Julius Jackson directly.
X-WR-RELCALID:647fad853bd0c97734049467c145b3ab
X-WR-TIMEZONE:America/New_York
BEGIN:VTIMEZONE
TZID:America/New_York
BEGIN:STANDARD
TZNAME:EST
DTSTART:20191103T020000
TZOFFSETFROM:-0400
TZOFFSETTO:-0500
RDATE:20201101T020000
END:STANDARD
BEGIN:DAYLIGHT
TZNAME:EDT
DTSTART:20190310T020000
TZOFFSETFROM:-0500
TZOFFSETTO:-0400
RDATE:20200308T020000
RDATE:20210314T020000
END:DAYLIGHT
END:VTIMEZONE
BEGIN:VEVENT
UID:95c3817e-7db1-4b69-9c2c-5d2dba9e922e
DTSTAMP:20260421T213243Z
DESCRIPTION:“Realize it is Time to Empathize\,' \nTrainer: Anthony Presiden
 t\n\nTo register: private agency foster parents should have their agency w
 orker contact Nefertiti McKinney at (216) 881-4048\; public agency foster 
 parents should register online at the OCWTP website\; adoptive and kinship
  parents can contact Julius Jackson directly.
DTSTART;TZID=America/New_York:20191105T180000
DTEND;TZID=America/New_York:20191105T210000
LOCATION:4614 Prospect Avenue\, Ste. 550
SUMMARY:Foster/Adoptive Parent Training
END:VEVENT
END:VCALENDAR
