BEGIN:VCALENDAR
VERSION:2.0
PRODID:-//www.adoptionnetwork.org//NONSGML kigkonsult.se iCalcreator 2.30.1
 0//
CALSCALE:GREGORIAN
METHOD:PUBLISH
UID:0b937a00-7261-4c1e-8e6c-df485c7c18d9
X-WR-CALDESC:A two-day parent leader-focused training designed for adoptive
 \, kinship and foster parents who are group leaders or hope to establish a
  parent support group.  9 am to 4 pm each day.\n\nFriday is Group Leadersh
 ip including: Leadership Styles and Development\; Advocacy and System Supp
 ort\; Group Development\, Facilitation\, Sustainability and Growth\; and P
 eer-to-Peer Networks\, Social Support\nSaturday will be Parent Skills incl
 uding: Kinship Family Dynamics\; Openness in Adoption\; Identity and Self-
 Imaging in Multiracial/Multicultural Families\; Trauma Informed Parenting\
 , ACE's and Managing Challenging Behaviors\; and Advocating for your Child
 .\n\nLunch & Snacks will be provided!\n\nProfessionals are welcome to atte
 nd with parent leaders.\n\nPresented in partnership with North American Co
 uncil on Adoptable Children and sponsored by Jockey Being Family (www.jock
 eybeingfamily.com)
X-WR-RELCALID:b43121cd1f601ab73d55abf2b9eb4d3a
X-WR-TIMEZONE:America/New_York
BEGIN:VTIMEZONE
TZID:America/New_York
BEGIN:STANDARD
TZNAME:EST
DTSTART:20191103T020000
TZOFFSETFROM:-0400
TZOFFSETTO:-0500
RDATE:20201101T020000
END:STANDARD
BEGIN:DAYLIGHT
TZNAME:EDT
DTSTART:20190310T020000
TZOFFSETFROM:-0500
TZOFFSETTO:-0400
RDATE:20200308T020000
RDATE:20210314T020000
END:DAYLIGHT
END:VTIMEZONE
BEGIN:VEVENT
UID:d761254e-1ee4-4144-91dd-a751de8e493f
DTSTAMP:20260420T173943Z
DESCRIPTION:A two-day parent leader-focused training designed for adoptive\
 , kinship and foster parents who are group leaders or hope to establish a 
 parent support group.  9 am to 4 pm each day.\n\nFriday is Group Leadershi
 p including: Leadership Styles and Development\; Advocacy and System Suppo
 rt\; Group Development\, Facilitation\, Sustainability and Growth\; and Pe
 er-to-Peer Networks\, Social Support\nSaturday will be Parent Skills inclu
 ding: Kinship Family Dynamics\; Openness in Adoption\; Identity and Self-I
 maging in Multiracial/Multicultural Families\; Trauma Informed Parenting\,
  ACE's and Managing Challenging Behaviors\; and Advocating for your Child.
 \n\nLunch & Snacks will be provided!\n\nProfessionals are welcome to atten
 d with parent leaders.\n\nPresented in partnership with North American Cou
 ncil on Adoptable Children and sponsored by Jockey Being Family (www.jocke
 ybeingfamily.com)
DTSTART;TZID=America/New_York:20191108T000000
DTEND;TZID=America/New_York:20191109T005900
LOCATION:Adoption Network Cleveland\, 4614 Prospect Ave.\, Suite 550\, Clev
 eland\, OH 44103
SUMMARY:Parent Group Leader Training
END:VEVENT
END:VCALENDAR
