BEGIN:VCALENDAR
VERSION:2.0
PRODID:-//www.adoptionnetwork.org//NONSGML kigkonsult.se iCalcreator 2.30.1
 0//
CALSCALE:GREGORIAN
METHOD:PUBLISH
UID:cfd579c6-b6ac-41aa-a58f-267973f2d922
X-WR-CALDESC:General Discussion Meetings are support and discussion groups 
 for any adult adoptee\, adoptive parent\, birthparent\, prospective adopti
 ve parent\, significant other\, professional or anyone interested in the l
 ifelong journey of adoption.\n\nThe meeting takes place monthly and no RSV
 P is required. The meeting room is located just inside the front door to t
 he left.
X-WR-RELCALID:4394c9bedca98e8d8b8347f94a1b8a83
X-WR-TIMEZONE:America/New_York
BEGIN:VTIMEZONE
TZID:America/New_York
BEGIN:STANDARD
TZNAME:EST
DTSTART:20191103T020000
TZOFFSETFROM:-0400
TZOFFSETTO:-0500
RDATE:20201101T020000
END:STANDARD
BEGIN:DAYLIGHT
TZNAME:EDT
DTSTART:20190310T020000
TZOFFSETFROM:-0500
TZOFFSETTO:-0400
RDATE:20200308T020000
RDATE:20210314T020000
END:DAYLIGHT
END:VTIMEZONE
BEGIN:VEVENT
UID:d0a2b1a1-88d9-4f38-8b43-0d4f60b415eb
DTSTAMP:20260425T170535Z
DESCRIPTION:General Discussion Meetings are support and discussion groups f
 or any adult adoptee\, adoptive parent\, birthparent\, prospective adoptiv
 e parent\, significant other\, professional or anyone interested in the li
 felong journey of adoption.\n\nThe meeting takes place monthly and no RSVP
  is required. The meeting room is located just inside the front door to th
 e left.
DTSTART;TZID=America/New_York:20191210T190000
DTEND;TZID=America/New_York:20191210T210000
LOCATION:Columbus Metropolitan Library (Karl Rd. Branch)\, 5590 Karl Road\,
  Columbus\, Ohio 43229
SUMMARY:Columbus General Discussion Meeting
END:VEVENT
END:VCALENDAR
