BEGIN:VCALENDAR
VERSION:2.0
PRODID:-//www.adoptionnetwork.org//NONSGML kigkonsult.se iCalcreator 2.30.1
 0//
CALSCALE:GREGORIAN
METHOD:PUBLISH
UID:c6eb0ae9-3328-44f0-bc3c-da585d90d82e
X-WR-CALDESC:Expanding on the Adoption 101:  Where Do I Begin Workshop\, th
 is 2-hour workshop explore more details for those looking considering a do
 mestic infant adoption.\n\nMember cost: $15 per person and $25 per couple
 \nNon-member cost: $20 per person and $35 per couple\nA $5 surcharge is ad
 ded if payment is the same day as the workshop.
X-WR-RELCALID:0c39c6513a06308d1905bea621c8b338
X-WR-TIMEZONE:America/New_York
BEGIN:VTIMEZONE
TZID:America/New_York
BEGIN:STANDARD
TZNAME:EST
DTSTART:20191103T020000
TZOFFSETFROM:-0400
TZOFFSETTO:-0500
RDATE:20201101T020000
END:STANDARD
BEGIN:DAYLIGHT
TZNAME:EDT
DTSTART:20190310T020000
TZOFFSETFROM:-0500
TZOFFSETTO:-0400
RDATE:20200308T020000
RDATE:20210314T020000
END:DAYLIGHT
END:VTIMEZONE
BEGIN:VEVENT
UID:1a79aa2e-2240-40aa-a478-985453a5098d
DTSTAMP:20260424T190544Z
DESCRIPTION:Expanding on the Adoption 101:  Where Do I Begin Workshop\, thi
 s 2-hour workshop explore more details for those looking considering a dom
 estic infant adoption.\n\nMember cost: $15 per person and $25 per couple\n
 Non-member cost: $20 per person and $35 per couple\nA $5 surcharge is adde
 d if payment is the same day as the workshop.
DTSTART;TZID=America/New_York:20200123T180000
DTEND;TZID=America/New_York:20200123T200000
LOCATION:Adoption Network Cleveland\, 4614 Prospect Ave. Suite 550\, Clevel
 and\, Ohio 44103
SUMMARY:Adoption 201: Adopting Infants Domestically
END:VEVENT
END:VCALENDAR
