BEGIN:VCALENDAR
VERSION:2.0
PRODID:-//www.adoptionnetwork.org//NONSGML kigkonsult.se iCalcreator 2.30.1
 0//
CALSCALE:GREGORIAN
METHOD:PUBLISH
UID:4d2ab15d-2b76-4855-a3ea-ab799f7f3d82
X-WR-CALDESC:Adoption Network Cleveland’s General Discussion Meetings provi
 de an opportunity for all those who are impacted by adoption to share thei
 r perspectives and learn from each other. \n\nThis month's meeting will ha
 ve a special topic: Attendees will discuss how and when to tell children a
 bout adoption and how to keep the conversation alive throughout their live
 s. What do adoptees wish their adoptive parents had talked more about or e
 xplained more to them? And what do birthparents wish the adoptive parents 
 had told their child? All are welcome to attend.
X-WR-RELCALID:28bce8de7cbc0c02592ea1b48dfd51b0
X-WR-TIMEZONE:America/New_York
BEGIN:VTIMEZONE
TZID:America/New_York
BEGIN:STANDARD
TZNAME:EST
DTSTART:20191103T020000
TZOFFSETFROM:-0400
TZOFFSETTO:-0500
RDATE:20201101T020000
END:STANDARD
BEGIN:DAYLIGHT
TZNAME:EDT
DTSTART:20190310T020000
TZOFFSETFROM:-0500
TZOFFSETTO:-0400
RDATE:20200308T020000
RDATE:20210314T020000
END:DAYLIGHT
END:VTIMEZONE
BEGIN:VEVENT
UID:92561c9d-cedc-4164-9bcd-12bef4020d73
DTSTAMP:20260420T072405Z
DESCRIPTION:Adoption Network Cleveland’s General Discussion Meetings provid
 e an opportunity for all those who are impacted by adoption to share their
  perspectives and learn from each other. \n\nThis month's meeting will hav
 e a special topic: Attendees will discuss how and when to tell children ab
 out adoption and how to keep the conversation alive throughout their lives
 . What do adoptees wish their adoptive parents had talked more about or ex
 plained more to them? And what do birthparents wish the adoptive parents h
 ad told their child? All are welcome to attend.
DTSTART;TZID=America/New_York:20200220T190000
DTEND;TZID=America/New_York:20200220T210000
LOCATION:2537 Lee Rd. Cleveland Heights\, 44118
SUMMARY:Heights General Discussion Meeting
END:VEVENT
END:VCALENDAR
