BEGIN:VCALENDAR
VERSION:2.0
PRODID:-//www.adoptionnetwork.org//NONSGML kigkonsult.se iCalcreator 2.30.1
 0//
CALSCALE:GREGORIAN
METHOD:PUBLISH
UID:56ee7ca7-12dd-469b-b3a5-91756f8b4fa7
X-WR-CALDESC:Healing through Storytelling: A Late Discovery Adoptee's Narra
 tive\nKevin Gladish\n\nKevin will share his personal story as a late disco
 very adoptee\, and how he used creative outlets to promote his own healing
 . More info to come!\n\nAbout Kevin Gladish\nKevin is thrilled to be part 
 of the Monday Speaker Series. Kevin has performed as a live storyteller in
  Chicago at several venues over the years\, including on the Steppenwolf s
 tage and in The Moth\, where he participated in the Grand Slam. He's writt
 en for a number of adoption-related platforms\, most recently for Portrait
  of an Adoption\, and was featured on the Bloods Call Podcast. Shortly aft
 er Kevin discovered his adoption by asking for his newly-released Ohio bir
 th certificate in 2015\, he began writing a blog called A Story With No Be
 ginning which documented his discovery\, his search for birth family\, and
  his struggle with his new identity as it all happened. The blog was recen
 tly adapted into a solo performance piece which Kevin debuted at the Virtu
 al Filet of Solo with Lifeline Theater in Chicago this year. The show is c
 alled A Secret in Plain Sight. \n \n
X-WR-RELCALID:e3979c5420c6f78ec2ac5a88e19116fd
X-WR-TIMEZONE:America/New_York
BEGIN:VTIMEZONE
TZID:America/New_York
BEGIN:STANDARD
TZNAME:EST
DTSTART:20201101T020000
TZOFFSETFROM:-0400
TZOFFSETTO:-0500
RDATE:20211107T020000
END:STANDARD
BEGIN:DAYLIGHT
TZNAME:EDT
DTSTART:20200308T020000
TZOFFSETFROM:-0500
TZOFFSETTO:-0400
RDATE:20210314T020000
RDATE:20220313T020000
END:DAYLIGHT
END:VTIMEZONE
BEGIN:VEVENT
UID:538dabb6-7ca9-4fc1-bfb3-7048e5365a55
DTSTAMP:20260422T034234Z
DESCRIPTION:Healing through Storytelling: A Late Discovery Adoptee's Narrat
 ive\nKevin Gladish\n\nKevin will share his personal story as a late discov
 ery adoptee\, and how he used creative outlets to promote his own healing.
  More info to come!\n\nAbout Kevin Gladish\nKevin is thrilled to be part o
 f the Monday Speaker Series. Kevin has performed as a live storyteller in 
 Chicago at several venues over the years\, including on the Steppenwolf st
 age and in The Moth\, where he participated in the Grand Slam. He's writte
 n for a number of adoption-related platforms\, most recently for Portrait 
 of an Adoption\, and was featured on the Bloods Call Podcast. Shortly afte
 r Kevin discovered his adoption by asking for his newly-released Ohio birt
 h certificate in 2015\, he began writing a blog called A Story With No Beg
 inning which documented his discovery\, his search for birth family\, and 
 his struggle with his new identity as it all happened. The blog was recent
 ly adapted into a solo performance piece which Kevin debuted at the Virtua
 l Filet of Solo with Lifeline Theater in Chicago this year. The show is ca
 lled A Secret in Plain Sight. \n \n
DTSTART;TZID=America/New_York:20210308T200000
DTEND;TZID=America/New_York:20210308T210000
LOCATION:Virtual using Zoom
SUMMARY:Monday Evening Speaker Series with Kevin Gladish
END:VEVENT
END:VCALENDAR
