BEGIN:VCALENDAR
VERSION:2.0
PRODID:-//www.adoptionnetwork.org//NONSGML kigkonsult.se iCalcreator 2.30.1
 0//
CALSCALE:GREGORIAN
METHOD:PUBLISH
UID:a77b0125-587b-4322-957e-20dfa980506f
X-WR-CALDESC:Adoption Network Cleveland’s General Discussion Meetings provi
 de an opportunity for all those who are impacted by adoption to share thei
 r perspectives and learn from each other. \n\nThis meeting will be a virtu
 al meeting facilitated by Kim and Denice. Our Virtual General Discussion M
 eetings meet via the Google Meet platform (which can be accessed through a
  home computer/laptop\, tablet\, or mobile phone) and will require an inte
 rnet connection or phone data connection. \n\nPre-registration is required
 . Click REGISTER NOW\, enter the number of attendees\, your information\, 
 and then click COMPLETE REGISTRATION.
X-WR-RELCALID:855f0715d7819bf453116ffa6512ea0a
X-WR-TIMEZONE:America/New_York
BEGIN:VTIMEZONE
TZID:America/New_York
BEGIN:STANDARD
TZNAME:EST
DTSTART:20201101T020000
TZOFFSETFROM:-0400
TZOFFSETTO:-0500
RDATE:20211107T020000
END:STANDARD
BEGIN:DAYLIGHT
TZNAME:EDT
DTSTART:20210314T020000
TZOFFSETFROM:-0500
TZOFFSETTO:-0400
RDATE:20220313T020000
END:DAYLIGHT
END:VTIMEZONE
BEGIN:VEVENT
UID:45e35626-5003-4982-982d-418134a3fed0
DTSTAMP:20260422T034244Z
DESCRIPTION:Adoption Network Cleveland’s General Discussion Meetings provid
 e an opportunity for all those who are impacted by adoption to share their
  perspectives and learn from each other. \n\nThis meeting will be a virtua
 l meeting facilitated by Kim and Denice. Our Virtual General Discussion Me
 etings meet via the Google Meet platform (which can be accessed through a 
 home computer/laptop\, tablet\, or mobile phone) and will require an inter
 net connection or phone data connection. \n\nPre-registration is required.
  Click REGISTER NOW\, enter the number of attendees\, your information\, a
 nd then click COMPLETE REGISTRATION.
DTSTART;TZID=America/New_York:20210310T190000
DTEND;TZID=America/New_York:20210310T210000
LOCATION:Virtual using Google Meet
SUMMARY:VIRTUAL General Meeting (Led by Kim/Denice)
END:VEVENT
END:VCALENDAR
