BEGIN:VCALENDAR
VERSION:2.0
PRODID:-//www.adoptionnetwork.org//NONSGML kigkonsult.se iCalcreator 2.30.1
 0//
CALSCALE:GREGORIAN
METHOD:PUBLISH
UID:12b18e7b-eec9-409a-898a-5a030b851966
X-WR-CALDESC:Join us for a Virtual Family Ties parent meeting. We will watc
 h a short video of adult adoptees sharing their feelings and experiences a
 round adoption as well as their relationships with their families and conc
 lude with a group discussion.
X-WR-RELCALID:63aa1298c103c7ac4413bef15470b3b0
X-WR-TIMEZONE:America/New_York
BEGIN:VTIMEZONE
TZID:America/New_York
BEGIN:STANDARD
TZNAME:EST
DTSTART:20201101T020000
TZOFFSETFROM:-0400
TZOFFSETTO:-0500
RDATE:20211107T020000
END:STANDARD
BEGIN:DAYLIGHT
TZNAME:EDT
DTSTART:20210314T020000
TZOFFSETFROM:-0500
TZOFFSETTO:-0400
RDATE:20220313T020000
END:DAYLIGHT
END:VTIMEZONE
BEGIN:VEVENT
UID:6fbfd04d-b9a2-4e7d-ae48-f21a7e96920f
DTSTAMP:20260422T034106Z
DESCRIPTION:Join us for a Virtual Family Ties parent meeting. We will watch
  a short video of adult adoptees sharing their feelings and experiences ar
 ound adoption as well as their relationships with their families and concl
 ude with a group discussion.
DTSTART;TZID=America/New_York:20210311T180000
DTEND;TZID=America/New_York:20210311T193000
LOCATION:Virtual using Google Meet
SUMMARY:VIRTUAL - Family Ties Parent Group
END:VEVENT
END:VCALENDAR
