BEGIN:VCALENDAR
VERSION:2.0
PRODID:-//www.adoptionnetwork.org//NONSGML kigkonsult.se iCalcreator 2.30.1
 0//
CALSCALE:GREGORIAN
METHOD:PUBLISH
UID:e698e5b1-550d-48df-bc05-f4c57c66cffa
X-WR-CALDESC:Join us in March as our Family Ties Program encourages adoptiv
 e\, foster\, and kinship families to spend spring Blooming Together. Learn
  how planting seeds\, providing water and sunlight\, and sharing positive 
 reinforcement nurtures plants to grow! \n\nLocal Cleveland families (and s
 urrounding suburbs) are encouraged to register to receive a Blooming Toget
 her kit with seeds\, soil\, pots\, paint\, and brushes to decorate along w
 ith instructions. Families will be encouraged to share a picture on social
  media throughout spring on 'Flower Fridays' to see how our plants are gro
 wing strong!\n\nEven if you don't live locally\, your family is encouraged
  to participate! Plant a plant together during March and then post picture
 s of your growing plants on Flower Fridays! Register to receive updates\, 
 tips\, and encouragement through our Family Ties program.\n\nRegister by M
 arch 19th to receive a Blooming Together Kit.\nDelivery of kits will take 
 place during the week of March 22nd.\n
X-WR-RELCALID:44c27161d9cb5226c19c82475509584e
X-WR-TIMEZONE:America/New_York
BEGIN:VTIMEZONE
TZID:America/New_York
BEGIN:STANDARD
TZNAME:EST
DTSTART:20201101T020000
TZOFFSETFROM:-0400
TZOFFSETTO:-0500
RDATE:20211107T020000
END:STANDARD
BEGIN:DAYLIGHT
TZNAME:EDT
DTSTART:20210314T020000
TZOFFSETFROM:-0500
TZOFFSETTO:-0400
RDATE:20220313T020000
END:DAYLIGHT
END:VTIMEZONE
BEGIN:VEVENT
UID:af4888a4-4bd0-42ba-a4fc-825546b52dcf
DTSTAMP:20260422T035102Z
DESCRIPTION:Join us in March as our Family Ties Program encourages adoptive
 \, foster\, and kinship families to spend spring Blooming Together. Learn 
 how planting seeds\, providing water and sunlight\, and sharing positive r
 einforcement nurtures plants to grow! \n\nLocal Cleveland families (and su
 rrounding suburbs) are encouraged to register to receive a Blooming Togeth
 er kit with seeds\, soil\, pots\, paint\, and brushes to decorate along wi
 th instructions. Families will be encouraged to share a picture on social 
 media throughout spring on 'Flower Fridays' to see how our plants are grow
 ing strong!\n\nEven if you don't live locally\, your family is encouraged 
 to participate! Plant a plant together during March and then post pictures
  of your growing plants on Flower Fridays! Register to receive updates\, t
 ips\, and encouragement through our Family Ties program.\n\nRegister by Ma
 rch 19th to receive a Blooming Together Kit.\nDelivery of kits will take p
 lace during the week of March 22nd.\n
DTSTART;TZID=America/New_York:20210319T220000
DTEND;TZID=America/New_York:20210319T230000
LOCATION:Online
SUMMARY:Blooming Together Family Ties Registration Deadline
END:VEVENT
END:VCALENDAR
