BEGIN:VCALENDAR
VERSION:2.0
PRODID:-//www.adoptionnetwork.org//NONSGML kigkonsult.se iCalcreator 2.30.1
 0//
CALSCALE:GREGORIAN
METHOD:PUBLISH
UID:43c44ae6-c430-4f4f-91a6-a580fe50dd3d
X-WR-CALDESC:Every Tuesday  from 8:30-9:30 a.m. Donikea and Danielle will b
 e providing a safe space for adoptive\, kinship and foster parents to drop
 -in with questions and conversation.\n--Connect with other Adoptive\, Kins
 hip and Foster Parents\n--Learn more from our Education Liaison\n--Ask par
 enting questions and share information\n--Get a recap of this months Famil
 y Ties group topic\n\n
X-WR-RELCALID:060f745a7697db1bd003fe069b386431
X-WR-TIMEZONE:America/New_York
BEGIN:VTIMEZONE
TZID:America/New_York
BEGIN:STANDARD
TZNAME:EST
DTSTART:20201101T020000
TZOFFSETFROM:-0400
TZOFFSETTO:-0500
RDATE:20211107T020000
END:STANDARD
BEGIN:DAYLIGHT
TZNAME:EDT
DTSTART:20210314T020000
TZOFFSETFROM:-0500
TZOFFSETTO:-0400
RDATE:20220313T020000
END:DAYLIGHT
END:VTIMEZONE
BEGIN:VEVENT
UID:43124a49-50fc-4e8f-a52c-7401bb2e3b09
DTSTAMP:20260422T015437Z
DESCRIPTION:Every Tuesday  from 8:30-9:30 a.m. Donikea and Danielle will be
  providing a safe space for adoptive\, kinship and foster parents to drop-
 in with questions and conversation.\n--Connect with other Adoptive\, Kinsh
 ip and Foster Parents\n--Learn more from our Education Liaison\n--Ask pare
 nting questions and share information\n--Get a recap of this months Family
  Ties group topic\n\n
DTSTART;TZID=America/New_York:20210406T083000
DTEND;TZID=America/New_York:20210406T093000
LOCATION:
SUMMARY:Donuts with Donikea & Danielle
END:VEVENT
END:VCALENDAR
