BEGIN:VCALENDAR
VERSION:2.0
PRODID:-//www.adoptionnetwork.org//NONSGML kigkonsult.se iCalcreator 2.30.1
 0//
CALSCALE:GREGORIAN
METHOD:PUBLISH
UID:532039b7-21bf-4397-886b-5d769c229470
X-WR-CALDESC:Join us for a Virtual Family Ties meeting. This meeting will i
 nclude a conversation on how to build your support network. \n\nWhat do yo
 u need? How do you find it? Parents will identify their strengths and soci
 al connections to determine how to build a network of support outside of t
 he group. We will take a look at how social media and Facebook can be util
 ized as a part of this supportive network. \n\nJoin us on Google Hangouts 
 to learn more and share.
X-WR-RELCALID:141752e17ecc91a677258b3d30e9c7e3
X-WR-TIMEZONE:America/New_York
BEGIN:VTIMEZONE
TZID:America/New_York
BEGIN:STANDARD
TZNAME:EST
DTSTART:20201101T020000
TZOFFSETFROM:-0400
TZOFFSETTO:-0500
RDATE:20211107T020000
END:STANDARD
BEGIN:DAYLIGHT
TZNAME:EDT
DTSTART:20210314T020000
TZOFFSETFROM:-0500
TZOFFSETTO:-0400
RDATE:20220313T020000
END:DAYLIGHT
END:VTIMEZONE
BEGIN:VEVENT
UID:d1f8a0f4-3cbf-437a-baea-ab3201d5754c
DTSTAMP:20260422T015714Z
DESCRIPTION:Join us for a Virtual Family Ties meeting. This meeting will in
 clude a conversation on how to build your support network. \n\nWhat do you
  need? How do you find it? Parents will identify their strengths and socia
 l connections to determine how to build a network of support outside of th
 e group. We will take a look at how social media and Facebook can be utili
 zed as a part of this supportive network. \n\nJoin us on Google Hangouts t
 o learn more and share.
DTSTART;TZID=America/New_York:20210408T180000
DTEND;TZID=America/New_York:20210408T193000
LOCATION:Virtual using Google Meet
SUMMARY:VIRTUAL - Family Ties Parent Group
END:VEVENT
END:VCALENDAR
