BEGIN:VCALENDAR
VERSION:2.0
PRODID:-//www.adoptionnetwork.org//NONSGML kigkonsult.se iCalcreator 2.30.1
 0//
CALSCALE:GREGORIAN
METHOD:PUBLISH
UID:b6690045-219e-423b-a076-1e89e84909c8
X-WR-CALDESC:Ron Nydam\nThe Trouble with Love – Adoptee Style\n\nThe wound 
 of relinquishment may have a great deal of influence on the romantic attra
 ction that adoptees sometimes experience. “Why do we marry the people we m
 arry?” “How is it that romantic attraction leads us to one person and not 
 to another?” Ron Nydam will dive into the topic and discuss whether the in
 jury of relinquishment becomes the guiding point that informs adoptees con
 cerning the way in which their love lives actually play out. This very unc
 onscious process is key to a deeper understanding of why we love the way w
 e love and shines a light on why many adoptees make unconscious choices “f
 alling in love” that reflect an unfinished personal struggle with the impa
 cts of relinquishment. It is precisely what we do not know about ourselves
  that gets us in the most trouble. \n\nAbout Ron Nydam\, Ph.D\nThroughout 
 his careers as a pastor\, a counselor\, and a professor\, Ron has had a ke
 en interest in the impact of relinquishment upon children who become adopt
 ed. “What is it like to lose first parents?” has been the guiding focus of
  his work for nearly 30 years. In conjunction with Bethany Christian Servi
 ces\, Ron produced a video\, More than Love\, which highlights the challen
 ges that adoptees face as they mature into adulthood.  Ron studied at the 
 University of Denver\, where his Ph.D. dissertation\, Hope and Fantasy in 
 the Lives of Relinquished and Adopted Adults\, was a never-before-asked in
 quiry into the birth parent fantasies that adult adoptees live with as the
 ir growing up within the historically closed adoption system. \n\nRon has 
 been a speaker on several occasions with the American Adoption Congress\, 
 of which he is a member. He has written many articles on the subject of re
 linquishment and adoption and is the author of two books\; AdopteesCome of
  Age - review of the normal developmental challenges that adoptees face as
  they mature into adulthood and the second\, Wise Adoptive Parenting: When
  kids struggle to adopt their parents - a guide for adoptive parents when 
 they are raising children who have a compromised capacity for attachment. 
 Presently\, Ron is on the staff of PCD Counseling in Denver\, Colorado\, w
 here his primary focus is offering therapy to adoption triad members. \n\n
 Ron can be reached at rjnydam@calvinseminary.edu\n\nHis books can be found
  on Amazon and at bookstores across the country:\n\nAdoptees Come of Age\n
 Wise Adoptive Parenting
X-WR-RELCALID:9cf780b9cec425ee091305316cac4084
X-WR-TIMEZONE:America/New_York
BEGIN:VTIMEZONE
TZID:America/New_York
BEGIN:STANDARD
TZNAME:EST
DTSTART:20201101T020000
TZOFFSETFROM:-0400
TZOFFSETTO:-0500
RDATE:20211107T020000
END:STANDARD
BEGIN:DAYLIGHT
TZNAME:EDT
DTSTART:20210314T020000
TZOFFSETFROM:-0500
TZOFFSETTO:-0400
RDATE:20220313T020000
END:DAYLIGHT
END:VTIMEZONE
BEGIN:VEVENT
UID:227148aa-b1cd-4418-bb3e-e4c6fd6f19eb
DTSTAMP:20260422T020105Z
DESCRIPTION:Ron Nydam\nThe Trouble with Love – Adoptee Style\n\nThe wound o
 f relinquishment may have a great deal of influence on the romantic attrac
 tion that adoptees sometimes experience. “Why do we marry the people we ma
 rry?” “How is it that romantic attraction leads us to one person and not t
 o another?” Ron Nydam will dive into the topic and discuss whether the inj
 ury of relinquishment becomes the guiding point that informs adoptees conc
 erning the way in which their love lives actually play out. This very unco
 nscious process is key to a deeper understanding of why we love the way we
  love and shines a light on why many adoptees make unconscious choices “fa
 lling in love” that reflect an unfinished personal struggle with the impac
 ts of relinquishment. It is precisely what we do not know about ourselves 
 that gets us in the most trouble. \n\nAbout Ron Nydam\, Ph.D\nThroughout h
 is careers as a pastor\, a counselor\, and a professor\, Ron has had a kee
 n interest in the impact of relinquishment upon children who become adopte
 d. “What is it like to lose first parents?” has been the guiding focus of 
 his work for nearly 30 years. In conjunction with Bethany Christian Servic
 es\, Ron produced a video\, More than Love\, which highlights the challeng
 es that adoptees face as they mature into adulthood.  Ron studied at the U
 niversity of Denver\, where his Ph.D. dissertation\, Hope and Fantasy in t
 he Lives of Relinquished and Adopted Adults\, was a never-before-asked inq
 uiry into the birth parent fantasies that adult adoptees live with as thei
 r growing up within the historically closed adoption system. \n\nRon has b
 een a speaker on several occasions with the American Adoption Congress\, o
 f which he is a member. He has written many articles on the subject of rel
 inquishment and adoption and is the author of two books\; AdopteesCome of 
 Age - review of the normal developmental challenges that adoptees face as 
 they mature into adulthood and the second\, Wise Adoptive Parenting: When 
 kids struggle to adopt their parents - a guide for adoptive parents when t
 hey are raising children who have a compromised capacity for attachment. P
 resently\, Ron is on the staff of PCD Counseling in Denver\, Colorado\, wh
 ere his primary focus is offering therapy to adoption triad members. \n\nR
 on can be reached at rjnydam@calvinseminary.edu\n\nHis books can be found 
 on Amazon and at bookstores across the country:\n\nAdoptees Come of Age\nW
 ise Adoptive Parenting
DTSTART;TZID=America/New_York:20210412T200000
DTEND;TZID=America/New_York:20210412T210000
LOCATION:Virtual using Zoom
SUMMARY:Monday Evening Speaker Series with Ron Nydam
END:VEVENT
END:VCALENDAR
