BEGIN:VCALENDAR
VERSION:2.0
PRODID:-//www.adoptionnetwork.org//NONSGML kigkonsult.se iCalcreator 2.30.1
 0//
CALSCALE:GREGORIAN
METHOD:PUBLISH
UID:953bd8bf-bc7f-4098-82ec-423a243dc040
X-WR-CALDESC:Adoption Network Cleveland’s General Discussion Meetings provi
 de an opportunity for all those who are impacted by adoption to share thei
 r perspectives and learn from each other. \n\nThis meeting will feature a 
 special discussion topic\, 'Reflecting on our Life Choices: Heredity or En
 vironment?' \nWhy do we do what we do? Is it hereditary? Is it our environ
 ment? This is surely a unique question for adoptees but one relevant to th
 e entire triad. Come reflect with us to learn a little bit more about why 
 we do what we do and how this new knowledge can impact your future.\n\nThi
 s meeting will be a virtual meeting facilitated by Kim and Denice. Our Vir
 tual General Discussion Meetings meet via the Google Meet platform (which 
 can be accessed through a home computer/laptop\, tablet\, or mobile phone)
  and will require an internet connection or phone data connection. \n\nPre
 -registration is required. Click REGISTER NOW\, enter the number of attend
 ees\, your information\, and then click COMPLETE REGISTRATION.
X-WR-RELCALID:88f7f1f04f73eafcf6893123fd696bce
X-WR-TIMEZONE:America/New_York
BEGIN:VTIMEZONE
TZID:America/New_York
BEGIN:STANDARD
TZNAME:EST
DTSTART:20201101T020000
TZOFFSETFROM:-0400
TZOFFSETTO:-0500
RDATE:20211107T020000
END:STANDARD
BEGIN:DAYLIGHT
TZNAME:EDT
DTSTART:20210314T020000
TZOFFSETFROM:-0500
TZOFFSETTO:-0400
RDATE:20220313T020000
END:DAYLIGHT
END:VTIMEZONE
BEGIN:VEVENT
UID:be3f78e2-cf34-4466-b893-c40754d47e36
DTSTAMP:20260422T020105Z
DESCRIPTION:Adoption Network Cleveland’s General Discussion Meetings provid
 e an opportunity for all those who are impacted by adoption to share their
  perspectives and learn from each other. \n\nThis meeting will feature a s
 pecial discussion topic\, 'Reflecting on our Life Choices: Heredity or Env
 ironment?' \nWhy do we do what we do? Is it hereditary? Is it our environm
 ent? This is surely a unique question for adoptees but one relevant to the
  entire triad. Come reflect with us to learn a little bit more about why w
 e do what we do and how this new knowledge can impact your future.\n\nThis
  meeting will be a virtual meeting facilitated by Kim and Denice. Our Virt
 ual General Discussion Meetings meet via the Google Meet platform (which c
 an be accessed through a home computer/laptop\, tablet\, or mobile phone) 
 and will require an internet connection or phone data connection. \n\nPre-
 registration is required. Click REGISTER NOW\, enter the number of attende
 es\, your information\, and then click COMPLETE REGISTRATION.
DTSTART;TZID=America/New_York:20210414T190000
DTEND;TZID=America/New_York:20210414T210000
LOCATION:Virtual using Google Meet
SUMMARY:VIRTUAL General Meeting (Led by Kim/Denice)
END:VEVENT
END:VCALENDAR
