BEGIN:VCALENDAR
VERSION:2.0
PRODID:-//www.adoptionnetwork.org//NONSGML kigkonsult.se iCalcreator 2.30.1
 0//
CALSCALE:GREGORIAN
METHOD:PUBLISH
UID:fae602a5-4d0f-40f4-bc4a-f54e229cc6f5
X-WR-CALDESC:Adoption Network Cleveland’s General Discussion Meetings provi
 de an opportunity for all those who are impacted by adoption to share thei
 r perspectives and learn from each other. \n\nThis meeting will be a virtu
 al meeting facilitated by Dottie and Estes. Our Virtual General Discussion
  Meetings meet via the Google Meet platform (which can be accessed through
  a home computer/laptop\, tablet\, or mobile phone) and will require an in
 ternet connection or phone data connection. \n\nPre-registration is requir
 ed. Click REGISTER NOW\, enter the number of attendees\, your information\
 , and then click COMPLETE REGISTRATION.\n
X-WR-RELCALID:2e5cd06b84f1f1ca0e4fa265818f9ce9
X-WR-TIMEZONE:America/New_York
BEGIN:VTIMEZONE
TZID:America/New_York
BEGIN:STANDARD
TZNAME:EST
DTSTART:20201101T020000
TZOFFSETFROM:-0400
TZOFFSETTO:-0500
RDATE:20211107T020000
END:STANDARD
BEGIN:DAYLIGHT
TZNAME:EDT
DTSTART:20210314T020000
TZOFFSETFROM:-0500
TZOFFSETTO:-0400
RDATE:20220313T020000
END:DAYLIGHT
END:VTIMEZONE
BEGIN:VEVENT
UID:41185541-f699-42d6-b858-5bf6c6a94b22
DTSTAMP:20260422T015758Z
DESCRIPTION:Adoption Network Cleveland’s General Discussion Meetings provid
 e an opportunity for all those who are impacted by adoption to share their
  perspectives and learn from each other. \n\nThis meeting will be a virtua
 l meeting facilitated by Dottie and Estes. Our Virtual General Discussion 
 Meetings meet via the Google Meet platform (which can be accessed through 
 a home computer/laptop\, tablet\, or mobile phone) and will require an int
 ernet connection or phone data connection. \n\nPre-registration is require
 d. Click REGISTER NOW\, enter the number of attendees\, your information\,
  and then click COMPLETE REGISTRATION.\n
DTSTART;TZID=America/New_York:20210415T190000
DTEND;TZID=America/New_York:20210415T210000
LOCATION:Virtual Meeting using Google Meet
SUMMARY:VIRTUAL General Meeting (Dottie/Estes)
END:VEVENT
END:VCALENDAR
