BEGIN:VCALENDAR
VERSION:2.0
PRODID:-//www.adoptionnetwork.org//NONSGML kigkonsult.se iCalcreator 2.30.1
 0//
CALSCALE:GREGORIAN
METHOD:PUBLISH
UID:cbbb3196-e1c6-43d8-a7c5-3fb4ad263a24
X-WR-CALDESC:NBC's hit show 'This is Us' has gained a following in the adop
 tion community. Over the last several years\, the show has highlighted iss
 ues of family separation\, adoptive and foster families\, race\, birthpare
 nts\, closed versus open adoption\, the complexities of search and reunion
 \, the lifelong impact of adoption\, and so many more. There have been smi
 les\, there have been tears\, there has been connection. Adoption Network 
 Cleveland invites you to join us for a group discussion on this timely and
  poignant show.\n\nEveryone is invited to attend and share their perspecti
 ve. No need to have attended previous discussions!\n\nThe discussion will 
 be facilitated by Barbara Robertson\, LMSW and Ohio-born\, New York adopte
 e\, and Krysia Orlowski\, writer\, professor\, and transracial adoptive pa
 rent.\n\nThe meeting will be virtual using video conferencing. Pre-registr
 ation is required. Please note that all times are Eastern Time zone. Pleas
 e join us!
X-WR-RELCALID:604d190d7b15b07facd1b17bccd08659
X-WR-TIMEZONE:America/New_York
BEGIN:VTIMEZONE
TZID:America/New_York
BEGIN:STANDARD
TZNAME:EST
DTSTART:20201101T020000
TZOFFSETFROM:-0400
TZOFFSETTO:-0500
RDATE:20211107T020000
END:STANDARD
BEGIN:DAYLIGHT
TZNAME:EDT
DTSTART:20210314T020000
TZOFFSETFROM:-0500
TZOFFSETTO:-0400
RDATE:20220313T020000
END:DAYLIGHT
END:VTIMEZONE
BEGIN:VEVENT
UID:1db241c5-be29-4863-871c-ec024b943da8
DTSTAMP:20260422T015631Z
DESCRIPTION:NBC's hit show 'This is Us' has gained a following in the adopt
 ion community. Over the last several years\, the show has highlighted issu
 es of family separation\, adoptive and foster families\, race\, birthparen
 ts\, closed versus open adoption\, the complexities of search and reunion\
 , the lifelong impact of adoption\, and so many more. There have been smil
 es\, there have been tears\, there has been connection. Adoption Network C
 leveland invites you to join us for a group discussion on this timely and 
 poignant show.\n\nEveryone is invited to attend and share their perspectiv
 e. No need to have attended previous discussions!\n\nThe discussion will b
 e facilitated by Barbara Robertson\, LMSW and Ohio-born\, New York adoptee
 \, and Krysia Orlowski\, writer\, professor\, and transracial adoptive par
 ent.\n\nThe meeting will be virtual using video conferencing. Pre-registra
 tion is required. Please note that all times are Eastern Time zone. Please
  join us!
DTSTART;TZID=America/New_York:20210419T200000
DTEND;TZID=America/New_York:20210419T210000
LOCATION:Online
SUMMARY:This is Us - a facilitated discussion
END:VEVENT
END:VCALENDAR
