BEGIN:VCALENDAR
VERSION:2.0
PRODID:-//www.adoptionnetwork.org//NONSGML kigkonsult.se iCalcreator 2.30.1
 0//
CALSCALE:GREGORIAN
METHOD:PUBLISH
UID:9ac86a17-e543-4be9-bd90-d1e1723b0d9d
X-WR-CALDESC:The Weaving Cultures Transracial Family Group is for families 
 who have been formed through transracial adoption. Its purpose is to offer
  a setting where both children and adults can form relationships and spend
  time with other families who share similar experiences through social and
  educational opportunities.\n\nThe parents in the group will temporarily b
 e meeting virtually to provide support to each other and discuss parenting
  topics of common interest.
X-WR-RELCALID:82c9c944ec4074d44d39106bae24781f
X-WR-TIMEZONE:America/New_York
BEGIN:VTIMEZONE
TZID:America/New_York
BEGIN:STANDARD
TZNAME:EST
DTSTART:20201101T020000
TZOFFSETFROM:-0400
TZOFFSETTO:-0500
RDATE:20211107T020000
END:STANDARD
BEGIN:DAYLIGHT
TZNAME:EDT
DTSTART:20210314T020000
TZOFFSETFROM:-0500
TZOFFSETTO:-0400
RDATE:20220313T020000
END:DAYLIGHT
END:VTIMEZONE
BEGIN:VEVENT
UID:c8b3ebad-c7ba-4930-ae39-30f00ab9980a
DTSTAMP:20260422T020019Z
DESCRIPTION:The Weaving Cultures Transracial Family Group is for families w
 ho have been formed through transracial adoption. Its purpose is to offer 
 a setting where both children and adults can form relationships and spend 
 time with other families who share similar experiences through social and 
 educational opportunities.\n\nThe parents in the group will temporarily be
  meeting virtually to provide support to each other and discuss parenting 
 topics of common interest.
DTSTART;TZID=America/New_York:20210420T200000
DTEND;TZID=America/New_York:20210420T213000
LOCATION:Online using Google Meet
SUMMARY:Weaving Cultures Transracial Adoptive Family Group (virtual)
END:VEVENT
END:VCALENDAR
