BEGIN:VCALENDAR
VERSION:2.0
PRODID:-//www.adoptionnetwork.org//NONSGML kigkonsult.se iCalcreator 2.30.1
 0//
CALSCALE:GREGORIAN
METHOD:PUBLISH
UID:e46a90d3-16b7-45fc-b389-ce952a58f6e4
X-WR-CALDESC:Adoption Network Cleveland is excited to be featured at an upc
 oming Connecting for Kids Speaker Series\, discussing\, 'Five Things Trans
 racial Families Need to Know to Thrive (Virtual)'\n \nDo you have a beauti
 ful family that was formed through transracial adoption? Are you looking f
 or ways for your child to form a strong racial identity as well as a stron
 g family bond? Join Krysia Orlowski\, Volunteer Parent Coordinator\, and D
 onikea Austin\, Program Manager of Adoption Network Cleveland as they walk
  us through tips that families formed by transracial adoption need to thri
 ve. Donikea and Krysia will then open the program to Q&A and offer strateg
 ies to help with the specific struggles families are experiencing. \n\nReg
 ister using the link on the Connecting for Kids Speaker Series and you wil
 l be emailed information about how to join the program using the free Zoom
  app or by calling in using a toll-free number. This program is for adults
  only and the educational portion of this program will be recorded. This p
 rogram is presented in partnership with Connecting for Kids\, Westlake Por
 ter Public Library\, and Adoption Network Cleveland.                      
                                                                           
                   \n\nLearn more about the Connecting for Kids Speaker Ser
 ies: https://connectingforkids.org/speakerseries\n
X-WR-RELCALID:d2309557e3c1bde0d147dd3a0bdf3b3f
X-WR-TIMEZONE:America/New_York
BEGIN:VTIMEZONE
TZID:America/New_York
BEGIN:STANDARD
TZNAME:EST
DTSTART:20201101T020000
TZOFFSETFROM:-0400
TZOFFSETTO:-0500
RDATE:20211107T020000
END:STANDARD
BEGIN:DAYLIGHT
TZNAME:EDT
DTSTART:20210314T020000
TZOFFSETFROM:-0500
TZOFFSETTO:-0400
RDATE:20220313T020000
END:DAYLIGHT
END:VTIMEZONE
BEGIN:VEVENT
UID:d61ee94d-f5d4-4c42-a615-7bd5a3daf0f3
DTSTAMP:20260422T000533Z
DESCRIPTION:Adoption Network Cleveland is excited to be featured at an upco
 ming Connecting for Kids Speaker Series\, discussing\, 'Five Things Transr
 acial Families Need to Know to Thrive (Virtual)'\n \nDo you have a beautif
 ul family that was formed through transracial adoption? Are you looking fo
 r ways for your child to form a strong racial identity as well as a strong
  family bond? Join Krysia Orlowski\, Volunteer Parent Coordinator\, and Do
 nikea Austin\, Program Manager of Adoption Network Cleveland as they walk 
 us through tips that families formed by transracial adoption need to thriv
 e. Donikea and Krysia will then open the program to Q&A and offer strategi
 es to help with the specific struggles families are experiencing. \n\nRegi
 ster using the link on the Connecting for Kids Speaker Series and you will
  be emailed information about how to join the program using the free Zoom 
 app or by calling in using a toll-free number. This program is for adults 
 only and the educational portion of this program will be recorded. This pr
 ogram is presented in partnership with Connecting for Kids\, Westlake Port
 er Public Library\, and Adoption Network Cleveland.                       
                                                                           
                  \n\nLearn more about the Connecting for Kids Speaker Seri
 es: https://connectingforkids.org/speakerseries\n
DTSTART;TZID=America/New_York:20210504T190000
DTEND;TZID=America/New_York:20210504T200000
LOCATION:https://connectingforkids.org/event-4161301
SUMMARY:Five Things Transracial Families Need to Know to Thrive (Virtual)
END:VEVENT
END:VCALENDAR
