BEGIN:VCALENDAR
VERSION:2.0
PRODID:-//www.adoptionnetwork.org//NONSGML kigkonsult.se iCalcreator 2.30.1
 0//
CALSCALE:GREGORIAN
METHOD:PUBLISH
UID:a091a310-07ce-496c-9d90-949e72f43524
X-WR-CALDESC:Illusions of Simplicity - Preparing for Contact and Reunion\n
 \nThis presentation will celebrate the wonderful advancements DNA testing 
 and access to records have brought to the search process while also recogn
 izing that making contact with family after receiving information quickly 
 can be daunting for all involved. It is important to recognize that these 
 yearned for relationships will have complexities. Thus\, long-term outcome
 s will be greatly affected by the preparation we allow ourselves.  Patrici
 a will discuss issues that present themselves regularly and some avenues t
 o manage them. \n\nAbout Patricia Martinez Dorner\, MA\, LPC\n\nPatricia\,
  a pioneer in open adoption and post-adoption services\, has been a relent
 less proponent of adoption reform. Her adoption-focused practice includes 
 education\, support\, and training to individuals and professionals. She i
 s a frequent conference speaker and author of many adoption-related books.
  The adoptive mother of two adult daughters\, she lives adoption personall
 y and professionally.\n
X-WR-RELCALID:70ae3f54104ea55e145bc018cf7b40a0
X-WR-TIMEZONE:America/New_York
BEGIN:VTIMEZONE
TZID:America/New_York
BEGIN:STANDARD
TZNAME:EST
DTSTART:20201101T020000
TZOFFSETFROM:-0400
TZOFFSETTO:-0500
RDATE:20211107T020000
RDATE:20221106T020000
END:STANDARD
BEGIN:DAYLIGHT
TZNAME:EDT
DTSTART:20210314T020000
TZOFFSETFROM:-0500
TZOFFSETTO:-0400
RDATE:20220313T020000
END:DAYLIGHT
END:VTIMEZONE
BEGIN:VEVENT
UID:d0db8235-31ef-4db8-b24e-6a6b76cc634c
DTSTAMP:20260422T000533Z
DESCRIPTION:Illusions of Simplicity - Preparing for Contact and Reunion\n\n
 This presentation will celebrate the wonderful advancements DNA testing an
 d access to records have brought to the search process while also recogniz
 ing that making contact with family after receiving information quickly ca
 n be daunting for all involved. It is important to recognize that these ye
 arned for relationships will have complexities. Thus\, long-term outcomes 
 will be greatly affected by the preparation we allow ourselves.  Patricia 
 will discuss issues that present themselves regularly and some avenues to 
 manage them. \n\nAbout Patricia Martinez Dorner\, MA\, LPC\n\nPatricia\, a
  pioneer in open adoption and post-adoption services\, has been a relentle
 ss proponent of adoption reform. Her adoption-focused practice includes ed
 ucation\, support\, and training to individuals and professionals. She is 
 a frequent conference speaker and author of many adoption-related books. T
 he adoptive mother of two adult daughters\, she lives adoption personally 
 and professionally.\n
DTSTART;TZID=America/New_York:20210510T200000
DTEND;TZID=America/New_York:20210510T210000
LOCATION:Virtual using Zoom
SUMMARY:Monday Evening Speaker Series with Patricia Dorner
END:VEVENT
END:VCALENDAR
