BEGIN:VCALENDAR
VERSION:2.0
PRODID:-//www.adoptionnetwork.org//NONSGML kigkonsult.se iCalcreator 2.30.1
 0//
CALSCALE:GREGORIAN
METHOD:PUBLISH
UID:19119b43-419c-4b23-84f9-2f986acf1ee7
X-WR-CALDESC:Join us for a quick 30-minute virtual discussion! You'll learn
  more about Adoption Network Cleveland's lasting legacy of meeting the nee
 ds of the adoption\, kinship\, and foster care community\, as well as what
 's next for the organization and our services.\n\nWednesday\, May 12 at 5:
 30-6:00 pm ET\nBetsie speaks with Search Specialist Traci Onders about how
  the field of search has evolved due to commercial DNA kits and why access
  to search assistance is important for our community. Adoption Network Cle
 veland created a lasting legacy through advocacy to give adoptees access t
 o their original birth certificates and we are continuing to evolve to mee
 t the changing needs of not only those connected to adoption but now also 
 those who are donor-conceived or have experienced a DNA discovery.
X-WR-RELCALID:3f577095dd38ddd39e478a05a1ae04e6
X-WR-TIMEZONE:America/New_York
BEGIN:VTIMEZONE
TZID:America/New_York
BEGIN:STANDARD
TZNAME:EST
DTSTART:20201101T020000
TZOFFSETFROM:-0400
TZOFFSETTO:-0500
RDATE:20211107T020000
RDATE:20221106T020000
END:STANDARD
BEGIN:DAYLIGHT
TZNAME:EDT
DTSTART:20210314T020000
TZOFFSETFROM:-0500
TZOFFSETTO:-0400
RDATE:20220313T020000
END:DAYLIGHT
END:VTIMEZONE
BEGIN:VEVENT
UID:830ae54c-bfd5-4f60-a7ce-bd7b893efa90
DTSTAMP:20260422T000605Z
DESCRIPTION:Join us for a quick 30-minute virtual discussion! You'll learn 
 more about Adoption Network Cleveland's lasting legacy of meeting the need
 s of the adoption\, kinship\, and foster care community\, as well as what'
 s next for the organization and our services.\n\nWednesday\, May 12 at 5:3
 0-6:00 pm ET\nBetsie speaks with Search Specialist Traci Onders about how 
 the field of search has evolved due to commercial DNA kits and why access 
 to search assistance is important for our community. Adoption Network Clev
 eland created a lasting legacy through advocacy to give adoptees access to
  their original birth certificates and we are continuing to evolve to meet
  the changing needs of not only those connected to adoption but now also t
 hose who are donor-conceived or have experienced a DNA discovery.
DTSTART;TZID=America/New_York:20210512T173000
DTEND;TZID=America/New_York:20210512T180000
LOCATION:https://us02web.zoom.us/j/4758655501?pwd=WXFkN0VyeVB2c2xLdzFHWGh2S
 DZnQT09
SUMMARY:Freshly Squeezed Scoop with Betsie - Search Assistance
END:VEVENT
END:VCALENDAR
