BEGIN:VCALENDAR
VERSION:2.0
PRODID:-//www.adoptionnetwork.org//NONSGML kigkonsult.se iCalcreator 2.30.1
 0//
CALSCALE:GREGORIAN
METHOD:PUBLISH
UID:84526da6-b034-4d11-a793-b7d6a5db4365
X-WR-CALDESC:Adoption Network Cleveland’s General Discussion Meetings provi
 de an opportunity for all those who are impacted by adoption to share thei
 r perspectives and learn from each other. \n\nThis meeting will be a virtu
 al meeting facilitated by Kim and Denice. Our Virtual General Discussion M
 eetings meet via the Google Meet platform (which can be accessed through a
  home computer/laptop\, tablet\, or mobile phone) and will require an inte
 rnet connection or phone data connection. \n\nPre-registration is required
 . Click REGISTER NOW\, enter the number of attendees\, your information\, 
 and then click COMPLETE REGISTRATION.
X-WR-RELCALID:ae4a2d23a9fa398f530cc4652af779cd
X-WR-TIMEZONE:America/New_York
BEGIN:VTIMEZONE
TZID:America/New_York
BEGIN:STANDARD
TZNAME:EST
DTSTART:20201101T020000
TZOFFSETFROM:-0400
TZOFFSETTO:-0500
RDATE:20211107T020000
RDATE:20221106T020000
END:STANDARD
BEGIN:DAYLIGHT
TZNAME:EDT
DTSTART:20210314T020000
TZOFFSETFROM:-0500
TZOFFSETTO:-0400
RDATE:20220313T020000
END:DAYLIGHT
END:VTIMEZONE
BEGIN:VEVENT
UID:adc7d65a-d0dc-47ac-b1b5-c28324a333ae
DTSTAMP:20260422T000442Z
DESCRIPTION:Adoption Network Cleveland’s General Discussion Meetings provid
 e an opportunity for all those who are impacted by adoption to share their
  perspectives and learn from each other. \n\nThis meeting will be a virtua
 l meeting facilitated by Kim and Denice. Our Virtual General Discussion Me
 etings meet via the Google Meet platform (which can be accessed through a 
 home computer/laptop\, tablet\, or mobile phone) and will require an inter
 net connection or phone data connection. \n\nPre-registration is required.
  Click REGISTER NOW\, enter the number of attendees\, your information\, a
 nd then click COMPLETE REGISTRATION.
DTSTART;TZID=America/New_York:20210512T190000
DTEND;TZID=America/New_York:20210512T210000
LOCATION:Virtual using Google Meet
SUMMARY:VIRTUAL General Meeting (Led by Kim/Denice)
END:VEVENT
END:VCALENDAR
