BEGIN:VCALENDAR
VERSION:2.0
PRODID:-//www.adoptionnetwork.org//NONSGML kigkonsult.se iCalcreator 2.30.1
 0//
CALSCALE:GREGORIAN
METHOD:PUBLISH
UID:1538158c-da0a-4708-bd51-0987bba16ce9
X-WR-CALDESC:Adoption Network Cleveland’s Family Ties Parent Group provides
  all adoptive\, kinship\, and foster parents and their children ages 2-18 
 the opportunity to meet\, share their experiences\, and learn from each ot
 her and featured presenters.\n\nParents are invited on Thursday\, May 13 t
 o discuss Talking to Kids About Racism and Violence. Many children are str
 uggling with processing the recurring news and images of racism and violen
 ce in the world. We could all use some pointers in how to talk to our kids
  about these difficult topics. Come to this month’s virtual parent meeting
  to learn about available tools and resources you can use to have these di
 fficult and complex conversations with your family. \n\nCertificates of At
 tendance will be available.\n
X-WR-RELCALID:765ddc86d2aedfe1feb132936207f8cf
X-WR-TIMEZONE:America/New_York
BEGIN:VTIMEZONE
TZID:America/New_York
BEGIN:STANDARD
TZNAME:EST
DTSTART:20201101T020000
TZOFFSETFROM:-0400
TZOFFSETTO:-0500
RDATE:20211107T020000
RDATE:20221106T020000
END:STANDARD
BEGIN:DAYLIGHT
TZNAME:EDT
DTSTART:20210314T020000
TZOFFSETFROM:-0500
TZOFFSETTO:-0400
RDATE:20220313T020000
END:DAYLIGHT
END:VTIMEZONE
BEGIN:VEVENT
UID:66d153d6-36a4-4f71-97de-e30cbd1f7d30
DTSTAMP:20260422T000236Z
DESCRIPTION:Adoption Network Cleveland’s Family Ties Parent Group provides 
 all adoptive\, kinship\, and foster parents and their children ages 2-18 t
 he opportunity to meet\, share their experiences\, and learn from each oth
 er and featured presenters.\n\nParents are invited on Thursday\, May 13 to
  discuss Talking to Kids About Racism and Violence. Many children are stru
 ggling with processing the recurring news and images of racism and violenc
 e in the world. We could all use some pointers in how to talk to our kids 
 about these difficult topics. Come to this month’s virtual parent meeting 
 to learn about available tools and resources you can use to have these dif
 ficult and complex conversations with your family. \n\nCertificates of Att
 endance will be available.\n
DTSTART;TZID=America/New_York:20210513T180000
DTEND;TZID=America/New_York:20210513T193000
LOCATION:Virtual using Google Meet
SUMMARY:VIRTUAL - Family Ties Parent Group
END:VEVENT
END:VCALENDAR
