BEGIN:VCALENDAR
VERSION:2.0
PRODID:-//www.adoptionnetwork.org//NONSGML kigkonsult.se iCalcreator 2.30.1
 0//
CALSCALE:GREGORIAN
METHOD:PUBLISH
UID:ea9ab981-aede-4f4a-8e0f-3080559e32c6
X-WR-CALDESC:Join us for a quick 30-minute virtual discussion! You'll learn
  more about Adoption Network Cleveland's lasting legacy of meeting the nee
 ds of the adoption\, kinship\, and foster care community\, as well as what
 's next for the organization and our services.\n\nThursday\, May 20 at 12:
 30-1:00 pm ET\nBetsie speaks with adoptive parent Lori McCarthy about how 
 our services for adoptive\, kinship\, and foster families evolves and grow
 s with families to meet their needs along their life-long journey. Lori an
 d her family have been connected with the organization for more than 30 ye
 ars. Danielle Gibson\, Program Coordinator and Educational Liaison\, joins
  them to share how the pandemic has impacted service provision and what se
 rvices will look like moving forward.
X-WR-RELCALID:36fbcd2954f524bfcec220937fccd352
X-WR-TIMEZONE:America/New_York
BEGIN:VTIMEZONE
TZID:America/New_York
BEGIN:STANDARD
TZNAME:EST
DTSTART:20201101T020000
TZOFFSETFROM:-0400
TZOFFSETTO:-0500
RDATE:20211107T020000
RDATE:20221106T020000
END:STANDARD
BEGIN:DAYLIGHT
TZNAME:EDT
DTSTART:20210314T020000
TZOFFSETFROM:-0500
TZOFFSETTO:-0400
RDATE:20220313T020000
END:DAYLIGHT
END:VTIMEZONE
BEGIN:VEVENT
UID:1f637185-de31-4c47-90c9-2f22b657f77d
DTSTAMP:20260422T000610Z
DESCRIPTION:Join us for a quick 30-minute virtual discussion! You'll learn 
 more about Adoption Network Cleveland's lasting legacy of meeting the need
 s of the adoption\, kinship\, and foster care community\, as well as what'
 s next for the organization and our services.\n\nThursday\, May 20 at 12:3
 0-1:00 pm ET\nBetsie speaks with adoptive parent Lori McCarthy about how o
 ur services for adoptive\, kinship\, and foster families evolves and grows
  with families to meet their needs along their life-long journey. Lori and
  her family have been connected with the organization for more than 30 yea
 rs. Danielle Gibson\, Program Coordinator and Educational Liaison\, joins 
 them to share how the pandemic has impacted service provision and what ser
 vices will look like moving forward.
DTSTART;TZID=America/New_York:20210520T123000
DTEND;TZID=America/New_York:20210520T130000
LOCATION:https://us02web.zoom.us/j/4758655501?pwd=WXFkN0VyeVB2c2xLdzFHWGh2S
 DZnQT09
SUMMARY:Freshly Squeezed Scoop with Betsie - Services for Families
END:VEVENT
END:VCALENDAR
