BEGIN:VCALENDAR
VERSION:2.0
PRODID:-//www.adoptionnetwork.org//NONSGML kigkonsult.se iCalcreator 2.30.1
 0//
CALSCALE:GREGORIAN
METHOD:PUBLISH
UID:8c242de7-1ba3-4d4e-b1b7-120b1069035a
X-WR-CALDESC:DNA Family Search and Reunion Viewed Through a Bioethics Lens
 \n\nIntuitively\, we each have a sense of what’s right and wrong. That sen
 se is influenced by the family\, culture\, and time period in which we are
  raised and live. When deciding to search for an adopted child or biologic
 al family\, there are points of a decision where we ask\, “What’s the righ
 t thing to do?” It’s not always clear\, and this is where discussions arou
 nd “ethics” come in. \n\nIn this presentation\, Brianne Kirkpatrick - a ge
 netic counselor and family member of an adoptee - will offer a perspective
  based on personal and professional experience. She’ll approach the tricky
  family situations that arise during family search and reunion using a len
 s of bioethics. Brianne’s exploration of case examples and practical advic
 e and resources will benefit all of those in the adoption constellation an
 d the professionals who work with them.\n\nAbout Brianne Kirkpatrick\, MS\
 , LCGC - Genetic Counselor and Founder of Watershed DNA\n\nBrianne Kirkpat
 rick is a licensed and certified genetic counselor\, consultant\, and auth
 or of the books ‘The DNA Guide for Adoptees’ and 'Could the DNA Test Be Wr
 ong?' Through her private practice and online support group\, Watershed DN
 A\, Brianne offers support and professional guidance with a focus on adopt
 ees\, donor-conceived persons\, and people with unexpected family matches.
 \n\nBrianne is the founder and owner of Watershed DNA (https://www.watersh
 eddna.com/). She is also the author of The DNA Guide for Adoptees and Coul
 d the DNA Test Be Wrong?
X-WR-RELCALID:738c3d7b048fabee8196b92b3dcd54c0
X-WR-TIMEZONE:America/New_York
BEGIN:VTIMEZONE
TZID:America/New_York
BEGIN:STANDARD
TZNAME:EST
DTSTART:20201101T020000
TZOFFSETFROM:-0400
TZOFFSETTO:-0500
RDATE:20211107T020000
RDATE:20221106T020000
END:STANDARD
BEGIN:DAYLIGHT
TZNAME:EDT
DTSTART:20210314T020000
TZOFFSETFROM:-0500
TZOFFSETTO:-0400
RDATE:20220313T020000
END:DAYLIGHT
END:VTIMEZONE
BEGIN:VEVENT
UID:5c450a26-d383-4c1c-83fa-e1f5456fa36b
DTSTAMP:20260422T000229Z
DESCRIPTION:DNA Family Search and Reunion Viewed Through a Bioethics Lens\n
 \nIntuitively\, we each have a sense of what’s right and wrong. That sense
  is influenced by the family\, culture\, and time period in which we are r
 aised and live. When deciding to search for an adopted child or biological
  family\, there are points of a decision where we ask\, “What’s the right 
 thing to do?” It’s not always clear\, and this is where discussions around
  “ethics” come in. \n\nIn this presentation\, Brianne Kirkpatrick - a gene
 tic counselor and family member of an adoptee - will offer a perspective b
 ased on personal and professional experience. She’ll approach the tricky f
 amily situations that arise during family search and reunion using a lens 
 of bioethics. Brianne’s exploration of case examples and practical advice 
 and resources will benefit all of those in the adoption constellation and 
 the professionals who work with them.\n\nAbout Brianne Kirkpatrick\, MS\, 
 LCGC - Genetic Counselor and Founder of Watershed DNA\n\nBrianne Kirkpatri
 ck is a licensed and certified genetic counselor\, consultant\, and author
  of the books ‘The DNA Guide for Adoptees’ and 'Could the DNA Test Be Wron
 g?' Through her private practice and online support group\, Watershed DNA\
 , Brianne offers support and professional guidance with a focus on adoptee
 s\, donor-conceived persons\, and people with unexpected family matches.\n
 \nBrianne is the founder and owner of Watershed DNA (https://www.watershed
 dna.com/). She is also the author of The DNA Guide for Adoptees and Could 
 the DNA Test Be Wrong?
DTSTART;TZID=America/New_York:20210524T200000
DTEND;TZID=America/New_York:20210524T210000
LOCATION:Virtual using Zoom
SUMMARY:Monday Evening Speaker Series with Brianne Kirkpatrick
END:VEVENT
END:VCALENDAR
