BEGIN:VCALENDAR
VERSION:2.0
PRODID:-//www.adoptionnetwork.org//NONSGML kigkonsult.se iCalcreator 2.30.1
 0//
CALSCALE:GREGORIAN
METHOD:PUBLISH
UID:75e6ffcc-0809-40f8-aa1f-d1fa25a1ab36
X-WR-CALDESC:Join Adoption Network Cleveland for a virtual Book Group Discu
 ssion on Gabrielle Glasser's 'American Baby: A Mother\, A Child\, and the 
 Shadow History of Adoption.' \n\nThis nonfiction read reveals the shocking
  truth about postwar adoption in America\, told through the bittersweet st
 ory of one teenager\, the son she was forced to relinquish\, and their sea
 rch to find each other. In 1961\, 16-year-old Margaret Erle became pregnan
 t by her boyfriend\, and her parents sent her to a maternity home. After s
 he gave birth to a son\, social workers threatened her into signing away h
 er parental rights. For decades\, Margaret tried desperately to find her s
 on but was blocked by the adoption agency that had handled his adoption. I
 nvestigative journalist Gabrielle Glaser follows Erle's journey in a wrenc
 hing narrative that centers on the secretive\, exploitative adoption busin
 ess in postwar America. In American Baby\, she highlights how the adoption
  industry's practices led to countless forced separations\, which she lays
  out in intense and chilling detail. \n\nOur book group discussion will be
  facilitated by staff member Camille Rose Dickson. Purchase your book on A
 mazon\, or through one of Cleveland's many independent book stores\, inclu
 ding Mac's Backs Books:  https://www.macsbacks.com.\n\n
X-WR-RELCALID:6a66a5fe8d2315bf9767e5b1b805f1a7
X-WR-TIMEZONE:America/New_York
BEGIN:VTIMEZONE
TZID:America/New_York
BEGIN:STANDARD
TZNAME:EST
DTSTART:20201101T020000
TZOFFSETFROM:-0400
TZOFFSETTO:-0500
RDATE:20211107T020000
RDATE:20221106T020000
END:STANDARD
BEGIN:DAYLIGHT
TZNAME:EDT
DTSTART:20210314T020000
TZOFFSETFROM:-0500
TZOFFSETTO:-0400
RDATE:20220313T020000
END:DAYLIGHT
END:VTIMEZONE
BEGIN:VEVENT
UID:324331ac-cb4a-4e8f-a72a-1a2ba3cdf693
DTSTAMP:20260422T000442Z
DESCRIPTION:Join Adoption Network Cleveland for a virtual Book Group Discus
 sion on Gabrielle Glasser's 'American Baby: A Mother\, A Child\, and the S
 hadow History of Adoption.' \n\nThis nonfiction read reveals the shocking 
 truth about postwar adoption in America\, told through the bittersweet sto
 ry of one teenager\, the son she was forced to relinquish\, and their sear
 ch to find each other. In 1961\, 16-year-old Margaret Erle became pregnant
  by her boyfriend\, and her parents sent her to a maternity home. After sh
 e gave birth to a son\, social workers threatened her into signing away he
 r parental rights. For decades\, Margaret tried desperately to find her so
 n but was blocked by the adoption agency that had handled his adoption. In
 vestigative journalist Gabrielle Glaser follows Erle's journey in a wrench
 ing narrative that centers on the secretive\, exploitative adoption busine
 ss in postwar America. In American Baby\, she highlights how the adoption 
 industry's practices led to countless forced separations\, which she lays 
 out in intense and chilling detail. \n\nOur book group discussion will be 
 facilitated by staff member Camille Rose Dickson. Purchase your book on Am
 azon\, or through one of Cleveland's many independent book stores\, includ
 ing Mac's Backs Books:  https://www.macsbacks.com.\n\n
DTSTART;TZID=America/New_York:20210526T193000
DTEND;TZID=America/New_York:20210526T210000
LOCATION:Virtual using Zoom
SUMMARY:Book Group Discussion - American Baby
END:VEVENT
END:VCALENDAR
