BEGIN:VCALENDAR
VERSION:2.0
PRODID:-//www.adoptionnetwork.org//NONSGML kigkonsult.se iCalcreator 2.30.1
 0//
CALSCALE:GREGORIAN
METHOD:PUBLISH
UID:32cdba35-9460-43ad-8e68-b0675f1e2847
X-WR-CALDESC:Join us for a quick 30-minute virtual discussion! You'll learn
  more about Adoption Network Cleveland's lasting legacy of meeting the nee
 ds of the adoption\, kinship\, and foster care community\, as well as what
 's next for the organization and our services.\n\nThursday\, May 27 at 5:3
 0-6:00 pm ET\nBetsie speaks with Aaron Ockerman of Ockerman Consulting abo
 ut his legislative work with the Adoption Network at the state level and t
 he organization's commitment to change through public policy and advocacy.
  The organization is creating a legacy of real system change within our fi
 eld that will continue to provide a voice for those impacted by adoption\,
  kinship\, and foster care in the years to come.
X-WR-RELCALID:59b0e5312daed10cfcb67f3de05fb3c1
X-WR-TIMEZONE:America/New_York
BEGIN:VTIMEZONE
TZID:America/New_York
BEGIN:STANDARD
TZNAME:EST
DTSTART:20201101T020000
TZOFFSETFROM:-0400
TZOFFSETTO:-0500
RDATE:20211107T020000
RDATE:20221106T020000
END:STANDARD
BEGIN:DAYLIGHT
TZNAME:EDT
DTSTART:20210314T020000
TZOFFSETFROM:-0500
TZOFFSETTO:-0400
RDATE:20220313T020000
END:DAYLIGHT
END:VTIMEZONE
BEGIN:VEVENT
UID:aa76f030-96b0-438d-9730-52437b195561
DTSTAMP:20260422T000735Z
DESCRIPTION:Join us for a quick 30-minute virtual discussion! You'll learn 
 more about Adoption Network Cleveland's lasting legacy of meeting the need
 s of the adoption\, kinship\, and foster care community\, as well as what'
 s next for the organization and our services.\n\nThursday\, May 27 at 5:30
 -6:00 pm ET\nBetsie speaks with Aaron Ockerman of Ockerman Consulting abou
 t his legislative work with the Adoption Network at the state level and th
 e organization's commitment to change through public policy and advocacy. 
 The organization is creating a legacy of real system change within our fie
 ld that will continue to provide a voice for those impacted by adoption\, 
 kinship\, and foster care in the years to come.
DTSTART;TZID=America/New_York:20210527T173000
DTEND;TZID=America/New_York:20210527T180000
LOCATION:https://us02web.zoom.us/j/4758655501?pwd=WXFkN0VyeVB2c2xLdzFHWGh2S
 DZnQT09
SUMMARY:Freshly Squeezed Scoop with Betsie - Advocacy and Public Policy
END:VEVENT
END:VCALENDAR
