BEGIN:VCALENDAR
VERSION:2.0
PRODID:-//www.adoptionnetwork.org//NONSGML kigkonsult.se iCalcreator 2.30.1
 0//
CALSCALE:GREGORIAN
METHOD:PUBLISH
UID:d266609f-7fe1-4604-b59e-ca5ecb5be0de
X-WR-CALDESC:Adoption Network Cleveland’s General Discussion Meetings provi
 de an opportunity for all those who are impacted by adoption to share thei
 r perspectives and learn from each other. \n\nThis meeting will have a spe
 cial topic\, 'Nurturing the Relationship after Re-uniting.'\n\nThis meetin
 g will be a virtual meeting facilitated by Barbara and Dan. Our Virtual Ge
 neral Discussion Meetings meet via the Google Meet platform (which can be 
 accessed through a home computer/laptop\, tablet\, or mobile phone) and wi
 ll require an internet connection or phone data connection. \n\nPre-regist
 ration is required. Click REGISTER NOW\, enter the number of attendees\, y
 our information\, and then click COMPLETE REGISTRATION.\n
X-WR-RELCALID:fe90eb5a46fa4cbf192dfe6378a67fcf
X-WR-TIMEZONE:America/New_York
BEGIN:VTIMEZONE
TZID:America/New_York
BEGIN:STANDARD
TZNAME:EST
DTSTART:20201101T020000
TZOFFSETFROM:-0400
TZOFFSETTO:-0500
RDATE:20211107T020000
RDATE:20221106T020000
END:STANDARD
BEGIN:DAYLIGHT
TZNAME:EDT
DTSTART:20210314T020000
TZOFFSETFROM:-0500
TZOFFSETTO:-0400
RDATE:20220313T020000
END:DAYLIGHT
END:VTIMEZONE
BEGIN:VEVENT
UID:2117f1a5-d524-4e36-b48f-72ff1b4439eb
DTSTAMP:20260422T000251Z
DESCRIPTION:Adoption Network Cleveland’s General Discussion Meetings provid
 e an opportunity for all those who are impacted by adoption to share their
  perspectives and learn from each other. \n\nThis meeting will have a spec
 ial topic\, 'Nurturing the Relationship after Re-uniting.'\n\nThis meeting
  will be a virtual meeting facilitated by Barbara and Dan. Our Virtual Gen
 eral Discussion Meetings meet via the Google Meet platform (which can be a
 ccessed through a home computer/laptop\, tablet\, or mobile phone) and wil
 l require an internet connection or phone data connection. \n\nPre-registr
 ation is required. Click REGISTER NOW\, enter the number of attendees\, yo
 ur information\, and then click COMPLETE REGISTRATION.\n
DTSTART;TZID=America/New_York:20210527T200000
DTEND;TZID=America/New_York:20210527T220000
LOCATION:Virtual using Google Meet
SUMMARY:VIRTUAL General Meeting (Led by Barbara/Dan)
END:VEVENT
END:VCALENDAR
