BEGIN:VCALENDAR
VERSION:2.0
PRODID:-//www.adoptionnetwork.org//NONSGML kigkonsult.se iCalcreator 2.30.1
 0//
CALSCALE:GREGORIAN
METHOD:PUBLISH
UID:00423e03-72c7-4f1a-8bb3-45cf7b0829cb
X-WR-CALDESC:Adoption Network Cleveland’s General Discussion Meetings provi
 de an opportunity for all those who are impacted by adoption to share thei
 r perspectives and learn from each other. \n\n This meeting will have a sp
 ecial topic\, 'Loss in Adoption.'\n\nThis meeting will be a virtual meetin
 g facilitated by Marni and Mindy. Our Virtual General Discussion Meetings 
 meet via the Google Meet platform (which can be accessed through a home co
 mputer/laptop\, tablet\, or mobile phone) and will require an internet con
 nection or phone data connection. \n\nPre-registration is required. Click 
 REGISTER NOW\, enter the number of attendees\, your information\, and then
  click COMPLETE REGISTRATION.
X-WR-RELCALID:2396b799e9d7c9623d142779dcb94997
X-WR-TIMEZONE:America/New_York
BEGIN:VTIMEZONE
TZID:America/New_York
BEGIN:STANDARD
TZNAME:EST
DTSTART:20201101T020000
TZOFFSETFROM:-0400
TZOFFSETTO:-0500
RDATE:20211107T020000
RDATE:20221106T020000
END:STANDARD
BEGIN:DAYLIGHT
TZNAME:EDT
DTSTART:20210314T020000
TZOFFSETFROM:-0500
TZOFFSETTO:-0400
RDATE:20220313T020000
END:DAYLIGHT
END:VTIMEZONE
BEGIN:VEVENT
UID:1524c8d3-5a55-4354-9df4-715a16928e29
DTSTAMP:20260421T223122Z
DESCRIPTION:Adoption Network Cleveland’s General Discussion Meetings provid
 e an opportunity for all those who are impacted by adoption to share their
  perspectives and learn from each other. \n\n This meeting will have a spe
 cial topic\, 'Loss in Adoption.'\n\nThis meeting will be a virtual meeting
  facilitated by Marni and Mindy. Our Virtual General Discussion Meetings m
 eet via the Google Meet platform (which can be accessed through a home com
 puter/laptop\, tablet\, or mobile phone) and will require an internet conn
 ection or phone data connection. \n\nPre-registration is required. Click R
 EGISTER NOW\, enter the number of attendees\, your information\, and then 
 click COMPLETE REGISTRATION.
DTSTART;TZID=America/New_York:20210608T190000
DTEND;TZID=America/New_York:20210608T210000
LOCATION:Virtual Meeting using Google Meet
SUMMARY:VIRTUAL General Meeting (Led by Marni/Mindy)
END:VEVENT
END:VCALENDAR
