BEGIN:VCALENDAR
VERSION:2.0
PRODID:-//www.adoptionnetwork.org//NONSGML kigkonsult.se iCalcreator 2.30.1
 0//
CALSCALE:GREGORIAN
METHOD:PUBLISH
UID:f928751f-25a1-4f06-9470-9caac7772515
X-WR-CALDESC:Join us for an in-person family adventure! Adoptive\, kinship\
 , and foster families are invited to join us for an opportunity to explore
  Canalway Center with a scavenger hunt and kite flying!\n \nCall or email 
 Donikea Austin\, Program Manager\, with any questions. \n\nOur rain date w
 ill be June 17th 6:30-8 pm.
X-WR-RELCALID:be8d6f6be236060a54ae3255a536219b
X-WR-TIMEZONE:America/New_York
BEGIN:VTIMEZONE
TZID:America/New_York
BEGIN:STANDARD
TZNAME:EST
DTSTART:20201101T020000
TZOFFSETFROM:-0400
TZOFFSETTO:-0500
RDATE:20211107T020000
RDATE:20221106T020000
END:STANDARD
BEGIN:DAYLIGHT
TZNAME:EDT
DTSTART:20210314T020000
TZOFFSETFROM:-0500
TZOFFSETTO:-0400
RDATE:20220313T020000
END:DAYLIGHT
END:VTIMEZONE
BEGIN:VEVENT
UID:2824ca33-a418-4e13-bf75-ee11386e64b6
DTSTAMP:20260421T222642Z
DESCRIPTION:Join us for an in-person family adventure! Adoptive\, kinship\,
  and foster families are invited to join us for an opportunity to explore 
 Canalway Center with a scavenger hunt and kite flying!\n \nCall or email D
 onikea Austin\, Program Manager\, with any questions. \n\nOur rain date wi
 ll be June 17th 6:30-8 pm.
DTSTART;TZID=America/New_York:20210610T183000
DTEND;TZID=America/New_York:20210610T200000
LOCATION:Cleveland Metroparks\, 4524 E 49th St\, Cleveland\, OH 44125 US
SUMMARY:Canceled Due to Rain - Family Ties Scavenger Hunt and Kites (In-Per
 son)
END:VEVENT
END:VCALENDAR
