BEGIN:VCALENDAR
VERSION:2.0
PRODID:-//www.adoptionnetwork.org//NONSGML kigkonsult.se iCalcreator 2.30.1
 0//
CALSCALE:GREGORIAN
METHOD:PUBLISH
UID:fd296e3f-e8da-4349-971f-a3a6387d0d89
X-WR-CALDESC:Adoption Network Cleveland is pleased to offer a series of fac
 ilitated virtual discussions on Race and Family this summer\, hosted by Th
 e Weaving Cultures Transracial Family Group. \n\nParents\, guardians\, and
  other family caregivers of adoptive\, kinship\, and foster families are i
 nvited to join in the discussion. You do not need to be part of a transrac
 ial family to attend! Together\, we will explore different aspects of race
  and family\, and how we as parents and caregivers of children can talk wi
 th them honestly about issues of race. Discussions will also include how i
 ssues of race intersect with adoption\, kinship care\, and foster care. Ex
 pect discussions to include interactive breakouts.\n\nJune: Talking to Whi
 te Kids about Race\nJuly: Diversifying Your Circle\nAugust: Allyship \n\nC
 ertificates of Attendance will be available.
X-WR-RELCALID:554999b6ce183da505f9426ed766398a
X-WR-TIMEZONE:America/New_York
BEGIN:VTIMEZONE
TZID:America/New_York
BEGIN:STANDARD
TZNAME:EST
DTSTART:20201101T020000
TZOFFSETFROM:-0400
TZOFFSETTO:-0500
RDATE:20211107T020000
RDATE:20221106T020000
END:STANDARD
BEGIN:DAYLIGHT
TZNAME:EDT
DTSTART:20210314T020000
TZOFFSETFROM:-0500
TZOFFSETTO:-0400
RDATE:20220313T020000
END:DAYLIGHT
END:VTIMEZONE
BEGIN:VEVENT
UID:6a0690ea-6195-4381-ad4f-a906ec04b29a
DTSTAMP:20260421T224329Z
DESCRIPTION:Adoption Network Cleveland is pleased to offer a series of faci
 litated virtual discussions on Race and Family this summer\, hosted by The
  Weaving Cultures Transracial Family Group. \n\nParents\, guardians\, and 
 other family caregivers of adoptive\, kinship\, and foster families are in
 vited to join in the discussion. You do not need to be part of a transraci
 al family to attend! Together\, we will explore different aspects of race 
 and family\, and how we as parents and caregivers of children can talk wit
 h them honestly about issues of race. Discussions will also include how is
 sues of race intersect with adoption\, kinship care\, and foster care. Exp
 ect discussions to include interactive breakouts.\n\nJune: Talking to Whit
 e Kids about Race\nJuly: Diversifying Your Circle\nAugust: Allyship \n\nCe
 rtificates of Attendance will be available.
DTSTART;TZID=America/New_York:20210615T183000
DTEND;TZID=America/New_York:20210615T200000
LOCATION:Virtual Event
SUMMARY:Discussions on Race and Family (Virtual)
END:VEVENT
END:VCALENDAR
