BEGIN:VCALENDAR
VERSION:2.0
PRODID:-//www.adoptionnetwork.org//NONSGML kigkonsult.se iCalcreator 2.30.1
 0//
CALSCALE:GREGORIAN
METHOD:PUBLISH
UID:1381edef-2972-4faf-8c79-21e57285dd3e
X-WR-CALDESC:Join us for an in-person family adventure! Adoptive\, kinship\
 , and foster families are invited to join us for an opportunity to explore
  Canalway Center with a scavenger hunt and kite flying!\n \nCall or email 
 Donikea Austin\, Program Manager\, with any questions. \n\nOur rain date w
 ill be June 17th 6:30-8 pm.
X-WR-RELCALID:140b4a98a9b1b6afab37f306e434d498
X-WR-TIMEZONE:America/New_York
BEGIN:VTIMEZONE
TZID:America/New_York
BEGIN:STANDARD
TZNAME:EST
DTSTART:20201101T020000
TZOFFSETFROM:-0400
TZOFFSETTO:-0500
RDATE:20211107T020000
RDATE:20221106T020000
END:STANDARD
BEGIN:DAYLIGHT
TZNAME:EDT
DTSTART:20210314T020000
TZOFFSETFROM:-0500
TZOFFSETTO:-0400
RDATE:20220313T020000
END:DAYLIGHT
END:VTIMEZONE
BEGIN:VEVENT
UID:a79816d0-75f8-4ce2-821b-d498519b04fb
DTSTAMP:20260421T223839Z
DESCRIPTION:Join us for an in-person family adventure! Adoptive\, kinship\,
  and foster families are invited to join us for an opportunity to explore 
 Canalway Center with a scavenger hunt and kite flying!\n \nCall or email D
 onikea Austin\, Program Manager\, with any questions. \n\nOur rain date wi
 ll be June 17th 6:30-8 pm.
DTSTART;TZID=America/New_York:20210617T183000
DTEND;TZID=America/New_York:20210617T200000
LOCATION:Cleveland Metroparks\, 4524 E 49th St\, Cleveland\, OH 44125 US
SUMMARY:Rain Date for Family Ties Scavenger Hunt and Kites (In-Person)
END:VEVENT
END:VCALENDAR
