BEGIN:VCALENDAR
VERSION:2.0
PRODID:-//www.adoptionnetwork.org//NONSGML kigkonsult.se iCalcreator 2.30.1
 0//
CALSCALE:GREGORIAN
METHOD:PUBLISH
UID:ac9ed43d-1657-4855-a5fb-b4d9f08a8dac
X-WR-CALDESC:A Change in the link for tonight - please use:  \nhttps://us02
 web.zoom.us/j/87391123148?pwd=MGJsMVBRK0pXMUtBQmE1a01zdUwwZz09\n\nMeeting 
 ID: 873 9112 3148\nPasscode: 782547\nOne tap mobile\n+13126266799\,\,87391
 123148#\,\,\,\,*782547# US (Chicago)\n+16468769923\,\,87391123148#\,\,\,\,
 *782547# US (New York)\n\n\nJoin Adoption Network Cleveland for a virtual 
 Book Group Discussion on Gabrielle Glasser's 'American Baby: A Mother\, A 
 Child\, and the Shadow History of Adoption.' \n\nThis nonfiction read reve
 als the shocking truth about postwar adoption in America\, told through th
 e bittersweet story of one teenager\, the son she was forced to relinquish
 \, and their search to find each other. In 1961\, 16-year-old Margaret Erl
 e became pregnant by her boyfriend\, and her parents sent her to a materni
 ty home. After she gave birth to a son\, social workers threatened her int
 o signing away her parental rights. For decades\, Margaret tried desperate
 ly to find her son but was blocked by the adoption agency that had handled
  his adoption. Investigative journalist Gabrielle Glaser follows Erle's jo
 urney in a wrenching narrative that centers on the secretive\, exploitativ
 e adoption business in postwar America. In American Baby\, she highlights 
 how the adoption industry's practices led to countless forced separations\
 , which she lays out in intense and chilling detail. \n\nOur book group di
 scussion will be facilitated by staff member Camille Rose Dickson. Purchas
 e your book on Amazon\, or through one of Cleveland's many independent boo
 k stores\, including Mac's Backs Books:  https://www.macsbacks.com.\n\n
X-WR-RELCALID:8ed6fc2000daaf58970fc0741b8475a1
X-WR-TIMEZONE:America/New_York
BEGIN:VTIMEZONE
TZID:America/New_York
BEGIN:STANDARD
TZNAME:EST
DTSTART:20201101T020000
TZOFFSETFROM:-0400
TZOFFSETTO:-0500
RDATE:20211107T020000
RDATE:20221106T020000
END:STANDARD
BEGIN:DAYLIGHT
TZNAME:EDT
DTSTART:20210314T020000
TZOFFSETFROM:-0500
TZOFFSETTO:-0400
RDATE:20220313T020000
END:DAYLIGHT
END:VTIMEZONE
BEGIN:VEVENT
UID:f4c23e37-6f42-4f31-ac0d-0bdcfdf7df2a
DTSTAMP:20260421T223717Z
DESCRIPTION:A Change in the link for tonight - please use:  \nhttps://us02w
 eb.zoom.us/j/87391123148?pwd=MGJsMVBRK0pXMUtBQmE1a01zdUwwZz09\n\nMeeting I
 D: 873 9112 3148\nPasscode: 782547\nOne tap mobile\n+13126266799\,\,873911
 23148#\,\,\,\,*782547# US (Chicago)\n+16468769923\,\,87391123148#\,\,\,\,*
 782547# US (New York)\n\n\nJoin Adoption Network Cleveland for a virtual B
 ook Group Discussion on Gabrielle Glasser's 'American Baby: A Mother\, A C
 hild\, and the Shadow History of Adoption.' \n\nThis nonfiction read revea
 ls the shocking truth about postwar adoption in America\, told through the
  bittersweet story of one teenager\, the son she was forced to relinquish\
 , and their search to find each other. In 1961\, 16-year-old Margaret Erle
  became pregnant by her boyfriend\, and her parents sent her to a maternit
 y home. After she gave birth to a son\, social workers threatened her into
  signing away her parental rights. For decades\, Margaret tried desperatel
 y to find her son but was blocked by the adoption agency that had handled 
 his adoption. Investigative journalist Gabrielle Glaser follows Erle's jou
 rney in a wrenching narrative that centers on the secretive\, exploitative
  adoption business in postwar America. In American Baby\, she highlights h
 ow the adoption industry's practices led to countless forced separations\,
  which she lays out in intense and chilling detail. \n\nOur book group dis
 cussion will be facilitated by staff member Camille Rose Dickson. Purchase
  your book on Amazon\, or through one of Cleveland's many independent book
  stores\, including Mac's Backs Books:  https://www.macsbacks.com.\n\n
DTSTART;TZID=America/New_York:20210630T193000
DTEND;TZID=America/New_York:20210630T210000
LOCATION:Virtual using Zoom
SUMMARY:Book Group Discussion - American Baby
END:VEVENT
END:VCALENDAR
