BEGIN:VCALENDAR
VERSION:2.0
PRODID:-//www.adoptionnetwork.org//NONSGML kigkonsult.se iCalcreator 2.30.1
 0//
CALSCALE:GREGORIAN
METHOD:PUBLISH
UID:823d4597-52b2-442c-a340-d69db4a0dd05
X-WR-CALDESC:Meet up with other families for ice cream and sand castles as
 \nwe explore the beach! Bring chairs\, towels\, water\, and don't\nforget 
 the sand toys \n \nCall or email Donikea Austin\, Program Manager\, with a
 ny questions. \n\nOur rain date will be Rain date: July 15
X-WR-RELCALID:9d30138f1d3764f5b8357521e87e737c
X-WR-TIMEZONE:America/New_York
BEGIN:VTIMEZONE
TZID:America/New_York
BEGIN:STANDARD
TZNAME:EST
DTSTART:20201101T020000
TZOFFSETFROM:-0400
TZOFFSETTO:-0500
RDATE:20211107T020000
RDATE:20221106T020000
END:STANDARD
BEGIN:DAYLIGHT
TZNAME:EDT
DTSTART:20210314T020000
TZOFFSETFROM:-0500
TZOFFSETTO:-0400
RDATE:20220313T020000
END:DAYLIGHT
END:VTIMEZONE
BEGIN:VEVENT
UID:15da4408-b3bd-4ada-a3bf-94f2f0ef9cb7
DTSTAMP:20260421T210527Z
DESCRIPTION:Meet up with other families for ice cream and sand castles as\n
 we explore the beach! Bring chairs\, towels\, water\, and don't\nforget th
 e sand toys \n \nCall or email Donikea Austin\, Program Manager\, with any
  questions. \n\nOur rain date will be Rain date: July 15
DTSTART;TZID=America/New_York:20210708T183000
DTEND;TZID=America/New_York:20210708T200000
LOCATION:Cleveland Metroparks - Edgewater Park\, Meet behind Edgewater Natu
 re Shop\, Cleveland\, OH 44102 US
SUMMARY:Cancelled Due to Rain: Family Ties DIY Ice Cream and Beach Day at E
 dgewater (In-Person)
END:VEVENT
END:VCALENDAR
