BEGIN:VCALENDAR
VERSION:2.0
PRODID:-//www.adoptionnetwork.org//NONSGML kigkonsult.se iCalcreator 2.30.1
 0//
CALSCALE:GREGORIAN
METHOD:PUBLISH
UID:334e7640-d3d9-4ff0-9f73-df6bebdc6981
X-WR-CALDESC:Adoption Network Cleveland’s General Discussion Meetings provi
 de an opportunity for all those who are impacted by adoption to share thei
 r perspectives and learn from each other. \n\nThis meeting will be a virtu
 al meeting facilitated by Marni and Mindy. Our Virtual General Discussion 
 Meetings meet via the Google Meet platform (which can be accessed through 
 a home computer/laptop\, tablet\, or mobile phone) and will require an int
 ernet connection or phone data connection. \n\nPre-registration is require
 d. Click REGISTER NOW\, enter the number of attendees\, your information\,
  and then click COMPLETE REGISTRATION.\n\n
X-WR-RELCALID:bff177762b2bc4f4d23f0a18ed29b805
X-WR-TIMEZONE:America/New_York
BEGIN:VTIMEZONE
TZID:America/New_York
BEGIN:STANDARD
TZNAME:EST
DTSTART:20201101T020000
TZOFFSETFROM:-0400
TZOFFSETTO:-0500
RDATE:20211107T020000
RDATE:20221106T020000
END:STANDARD
BEGIN:DAYLIGHT
TZNAME:EDT
DTSTART:20210314T020000
TZOFFSETFROM:-0500
TZOFFSETTO:-0400
RDATE:20220313T020000
END:DAYLIGHT
END:VTIMEZONE
BEGIN:VEVENT
UID:b56f2918-2de5-4102-8cb6-e546390e01a8
DTSTAMP:20260421T210421Z
DESCRIPTION:Adoption Network Cleveland’s General Discussion Meetings provid
 e an opportunity for all those who are impacted by adoption to share their
  perspectives and learn from each other. \n\nThis meeting will be a virtua
 l meeting facilitated by Marni and Mindy. Our Virtual General Discussion M
 eetings meet via the Google Meet platform (which can be accessed through a
  home computer/laptop\, tablet\, or mobile phone) and will require an inte
 rnet connection or phone data connection. \n\nPre-registration is required
 . Click REGISTER NOW\, enter the number of attendees\, your information\, 
 and then click COMPLETE REGISTRATION.\n\n
DTSTART;TZID=America/New_York:20210713T190000
DTEND;TZID=America/New_York:20210713T210000
LOCATION:Virtual Meeting using Google Meets
SUMMARY:VIRTUAL General Meeting (Led by Marni/Mindy)
END:VEVENT
END:VCALENDAR
