BEGIN:VCALENDAR
VERSION:2.0
PRODID:-//www.adoptionnetwork.org//NONSGML kigkonsult.se iCalcreator 2.30.1
 0//
CALSCALE:GREGORIAN
METHOD:PUBLISH
UID:817252f7-29f4-4ad6-8971-4c2a54dea6e5
X-WR-CALDESC:Expanding on the Adoption 101:  Where Do I Begin Workshop\, th
 is 2-hour workshop explores more details for those looking to consider a d
 omestic infant adoption.\n\nDue to current safety guidelines from the stat
 e of Ohio\, this workshop will be offered virtually using Google Meet. Thi
 s virtual meeting platform can be accessed through a home computer/laptop\
 , tablet\, or mobile phone) and will require an internet connection or pho
 ne data connection. Google Meet is free to use for participants.\n\nMember
  cost: $15 per person and $25 per couple\nNon-member cost: $20 per person 
 and $35 per couple\nA $5 surcharge is added if payment is the same day as 
 the workshop.
X-WR-RELCALID:e229ebb88d15056d748b2ecb8ae43c47
X-WR-TIMEZONE:America/New_York
BEGIN:VTIMEZONE
TZID:America/New_York
BEGIN:STANDARD
TZNAME:EST
DTSTART:20201101T020000
TZOFFSETFROM:-0400
TZOFFSETTO:-0500
RDATE:20211107T020000
RDATE:20221106T020000
END:STANDARD
BEGIN:DAYLIGHT
TZNAME:EDT
DTSTART:20210314T020000
TZOFFSETFROM:-0500
TZOFFSETTO:-0400
RDATE:20220313T020000
END:DAYLIGHT
END:VTIMEZONE
BEGIN:VEVENT
UID:70f07433-efce-4dcd-a7cc-99850b00ad62
DTSTAMP:20260421T211052Z
DESCRIPTION:Expanding on the Adoption 101:  Where Do I Begin Workshop\, thi
 s 2-hour workshop explores more details for those looking to consider a do
 mestic infant adoption.\n\nDue to current safety guidelines from the state
  of Ohio\, this workshop will be offered virtually using Google Meet. This
  virtual meeting platform can be accessed through a home computer/laptop\,
  tablet\, or mobile phone) and will require an internet connection or phon
 e data connection. Google Meet is free to use for participants.\n\nMember 
 cost: $15 per person and $25 per couple\nNon-member cost: $20 per person a
 nd $35 per couple\nA $5 surcharge is added if payment is the same day as t
 he workshop.
DTSTART;TZID=America/New_York:20210714T180000
DTEND;TZID=America/New_York:20210714T200000
LOCATION:Online using Google Meet
SUMMARY:VIRTUAL - Adoption 201: Adopting Infants Domestically
END:VEVENT
END:VCALENDAR
