BEGIN:VCALENDAR
VERSION:2.0
PRODID:-//www.adoptionnetwork.org//NONSGML kigkonsult.se iCalcreator 2.30.1
 0//
CALSCALE:GREGORIAN
METHOD:PUBLISH
UID:aff3c555-5dcf-4e8b-bdb6-0770169b9367
X-WR-CALDESC:Adoption Network Cleveland’s General Discussion Meetings provi
 de an opportunity for all those who are impacted by adoption to share thei
 r perspectives and learn from each other. \n\nThis meeting will be a virtu
 al meeting facilitated by Kim and Denice. Our Virtual General Discussion M
 eetings meet via the Google Meet platform (which can be accessed through a
  home computer/laptop\, tablet\, or mobile phone) and will require an inte
 rnet connection or phone data connection. \n\nPre-registration is required
 . Click REGISTER NOW\, enter the number of attendees\, your information\, 
 and then click COMPLETE REGISTRATION.
X-WR-RELCALID:55fbf9644816390ad1f249494bd1511b
X-WR-TIMEZONE:America/New_York
BEGIN:VTIMEZONE
TZID:America/New_York
BEGIN:STANDARD
TZNAME:EST
DTSTART:20201101T020000
TZOFFSETFROM:-0400
TZOFFSETTO:-0500
RDATE:20211107T020000
RDATE:20221106T020000
END:STANDARD
BEGIN:DAYLIGHT
TZNAME:EDT
DTSTART:20210314T020000
TZOFFSETFROM:-0500
TZOFFSETTO:-0400
RDATE:20220313T020000
END:DAYLIGHT
END:VTIMEZONE
BEGIN:VEVENT
UID:84e052c4-1bc5-4c0e-a493-c5020a9514d6
DTSTAMP:20260421T210604Z
DESCRIPTION:Adoption Network Cleveland’s General Discussion Meetings provid
 e an opportunity for all those who are impacted by adoption to share their
  perspectives and learn from each other. \n\nThis meeting will be a virtua
 l meeting facilitated by Kim and Denice. Our Virtual General Discussion Me
 etings meet via the Google Meet platform (which can be accessed through a 
 home computer/laptop\, tablet\, or mobile phone) and will require an inter
 net connection or phone data connection. \n\nPre-registration is required.
  Click REGISTER NOW\, enter the number of attendees\, your information\, a
 nd then click COMPLETE REGISTRATION.
DTSTART;TZID=America/New_York:20210714T190000
DTEND;TZID=America/New_York:20210714T210000
LOCATION:Virtual Meeting using Google Meets
SUMMARY:VIRTUAL General Meeting (Led by Kim/Denice)
END:VEVENT
END:VCALENDAR
