BEGIN:VCALENDAR
VERSION:2.0
PRODID:-//www.adoptionnetwork.org//NONSGML kigkonsult.se iCalcreator 2.30.1
 0//
CALSCALE:GREGORIAN
METHOD:PUBLISH
UID:779e4449-36db-4d55-aeb0-563197fbb335
X-WR-CALDESC:Adoption Network Cleveland’s General Discussion Meetings provi
 de an opportunity for all those who are impacted by adoption to share thei
 r perspectives and learn from each other. \n\nThis meeting will have a spe
 cial topic\, 'Shame and Its Power to Enslave Us.'\nThrough an increased aw
 areness and understanding of the role that guilt and shame play in adoptio
 n\, attendees will gain different perspectives of the constellation member
 s (adoptees\, birthparents\, adoptive parents\, etc.) regarding how shame 
 and guilt have played a part in their adoption experience.  Through sharin
 g the stories on how they and/or different constellation members have work
 ed through and alleviated shame and guilt throughout their adoption journe
 y.   \n\nThis meeting will be a virtual meeting facilitated by Dottie and 
 Estes. Our Virtual General Discussion Meetings meet via the Google Meet pl
 atform (which can be accessed through a home computer/laptop\, tablet\, or
  mobile phone) and will require an internet connection or phone data conne
 ction. \n\nPre-registration is required. Click REGISTER NOW\, enter the nu
 mber of attendees\, your information\, and then click COMPLETE REGISTRATIO
 N.\n\nOur General Discussion Meetings with specific topics fill up quickly
 . Space is limited to ensure a reasonable number of participants to engage
  in discussion\, so please register in advance. We keep a waiting list onc
 e we meet the registration limit\, so if you are registered and unable to 
 attend\, please let us know so we can open that spot up for someone else.
 \n\nIf registration has reached capacity and you would like to be placed o
 n the waiting list\, please email Deb Wentz at Deborah.wentz@adoptionnetwo
 rk.org with the date of the event and a request to be placed on the waitin
 g list. Thank you!\n
X-WR-RELCALID:8d891303c7ac47e0b24a828b5b99951b
X-WR-TIMEZONE:America/New_York
BEGIN:VTIMEZONE
TZID:America/New_York
BEGIN:STANDARD
TZNAME:EST
DTSTART:20201101T020000
TZOFFSETFROM:-0400
TZOFFSETTO:-0500
RDATE:20211107T020000
RDATE:20221106T020000
END:STANDARD
BEGIN:DAYLIGHT
TZNAME:EDT
DTSTART:20210314T020000
TZOFFSETFROM:-0500
TZOFFSETTO:-0400
RDATE:20220313T020000
END:DAYLIGHT
END:VTIMEZONE
BEGIN:VEVENT
UID:3440bbd7-cff9-4c82-b906-d41b17fe6b3c
DTSTAMP:20260421T211206Z
DESCRIPTION:Adoption Network Cleveland’s General Discussion Meetings provid
 e an opportunity for all those who are impacted by adoption to share their
  perspectives and learn from each other. \n\nThis meeting will have a spec
 ial topic\, 'Shame and Its Power to Enslave Us.'\nThrough an increased awa
 reness and understanding of the role that guilt and shame play in adoption
 \, attendees will gain different perspectives of the constellation members
  (adoptees\, birthparents\, adoptive parents\, etc.) regarding how shame a
 nd guilt have played a part in their adoption experience.  Through sharing
  the stories on how they and/or different constellation members have worke
 d through and alleviated shame and guilt throughout their adoption journey
 .   \n\nThis meeting will be a virtual meeting facilitated by Dottie and E
 stes. Our Virtual General Discussion Meetings meet via the Google Meet pla
 tform (which can be accessed through a home computer/laptop\, tablet\, or 
 mobile phone) and will require an internet connection or phone data connec
 tion. \n\nPre-registration is required. Click REGISTER NOW\, enter the num
 ber of attendees\, your information\, and then click COMPLETE REGISTRATION
 .\n\nOur General Discussion Meetings with specific topics fill up quickly.
  Space is limited to ensure a reasonable number of participants to engage 
 in discussion\, so please register in advance. We keep a waiting list once
  we meet the registration limit\, so if you are registered and unable to a
 ttend\, please let us know so we can open that spot up for someone else.\n
 \nIf registration has reached capacity and you would like to be placed on 
 the waiting list\, please email Deb Wentz at Deborah.wentz@adoptionnetwork
 .org with the date of the event and a request to be placed on the waiting 
 list. Thank you!\n
DTSTART;TZID=America/New_York:20210715T190000
DTEND;TZID=America/New_York:20210715T210000
LOCATION:Virtual Meeting using Google Meet
SUMMARY:VIRTUAL General Meeting (Dottie/Estes)
END:VEVENT
END:VCALENDAR
