BEGIN:VCALENDAR
VERSION:2.0
PRODID:-//www.adoptionnetwork.org//NONSGML kigkonsult.se iCalcreator 2.30.1
 0//
CALSCALE:GREGORIAN
METHOD:PUBLISH
UID:d298279c-69ed-4294-ac63-482fb5a6c422
X-WR-CALDESC:Join us for a teen Ice Cream at Mitchell's!\n\nMeet other teen
 s who share similar experiences as a member of an adoptive\, kinship\, or 
 foster family\, have fun and get free ice cream!
X-WR-RELCALID:333ad697747a391b8e1f385cc2af98a1
X-WR-TIMEZONE:America/New_York
BEGIN:VTIMEZONE
TZID:America/New_York
BEGIN:STANDARD
TZNAME:EST
DTSTART:20201101T020000
TZOFFSETFROM:-0400
TZOFFSETTO:-0500
RDATE:20211107T020000
RDATE:20221106T020000
END:STANDARD
BEGIN:DAYLIGHT
TZNAME:EDT
DTSTART:20210314T020000
TZOFFSETFROM:-0500
TZOFFSETTO:-0400
RDATE:20220313T020000
END:DAYLIGHT
END:VTIMEZONE
BEGIN:VEVENT
UID:24a7a9ff-7127-46c0-95de-4e63808652e1
DTSTAMP:20260421T210856Z
DESCRIPTION:Join us for a teen Ice Cream at Mitchell's!\n\nMeet other teens
  who share similar experiences as a member of an adoptive\, kinship\, or f
 oster family\, have fun and get free ice cream!
DTSTART;TZID=America/New_York:20210717T130000
DTEND;TZID=America/New_York:20210717T150000
LOCATION:
SUMMARY:Ice Cream at Mitchell's - Teen Group Outing (in-person)
END:VEVENT
END:VCALENDAR
