BEGIN:VCALENDAR
VERSION:2.0
PRODID:-//www.adoptionnetwork.org//NONSGML kigkonsult.se iCalcreator 2.30.1
 0//
CALSCALE:GREGORIAN
METHOD:PUBLISH
UID:bed36617-aeb4-4125-8097-45bd43e95f37
X-WR-CALDESC:Adoption Network Cleveland is pleased to offer a series of fac
 ilitated virtual discussions on Race and Family this summer\, co-hosted by
  The Weaving Cultures Transracial Family Group and Family Ties program.\n
 \nParents\, guardians\, and other family caregivers of adoptive\, kinship\
 , and foster families are invited to join in the discussion. You do not ne
 ed to be part of a transracial family to attend! Together\, we will explor
 e different aspects of race and family\, and how we as parents and caregiv
 ers of children can talk with them honestly about issues of race. Discussi
 ons will also include how issues of race intersect with adoption\, kinship
  care\, and foster care. Expect discussions to include interactive breakou
 ts.\n\nJune: Talking to White Kids about Race\nJuly: Diversifying Your Cir
 cle\nAugust: Allyship \n\nCertificates of Attendance will be available.\n
X-WR-RELCALID:c78e53024b54eca8fd5cbc21c0a38d72
X-WR-TIMEZONE:America/New_York
BEGIN:VTIMEZONE
TZID:America/New_York
BEGIN:STANDARD
TZNAME:EST
DTSTART:20201101T020000
TZOFFSETFROM:-0400
TZOFFSETTO:-0500
RDATE:20211107T020000
RDATE:20221106T020000
END:STANDARD
BEGIN:DAYLIGHT
TZNAME:EDT
DTSTART:20210314T020000
TZOFFSETFROM:-0500
TZOFFSETTO:-0400
RDATE:20220313T020000
END:DAYLIGHT
END:VTIMEZONE
BEGIN:VEVENT
UID:320c2586-50ac-4306-aa86-3efef97200c0
DTSTAMP:20260421T210248Z
DESCRIPTION:Adoption Network Cleveland is pleased to offer a series of faci
 litated virtual discussions on Race and Family this summer\, co-hosted by 
 The Weaving Cultures Transracial Family Group and Family Ties program.\n\n
 Parents\, guardians\, and other family caregivers of adoptive\, kinship\, 
 and foster families are invited to join in the discussion. You do not need
  to be part of a transracial family to attend! Together\, we will explore 
 different aspects of race and family\, and how we as parents and caregiver
 s of children can talk with them honestly about issues of race. Discussion
 s will also include how issues of race intersect with adoption\, kinship c
 are\, and foster care. Expect discussions to include interactive breakouts
 .\n\nJune: Talking to White Kids about Race\nJuly: Diversifying Your Circl
 e\nAugust: Allyship \n\nCertificates of Attendance will be available.\n
DTSTART;TZID=America/New_York:20210720T183000
DTEND;TZID=America/New_York:20210720T200000
LOCATION:Virtual Event
SUMMARY:Discussions on Race and Family (Virtual)
END:VEVENT
END:VCALENDAR
