BEGIN:VCALENDAR
VERSION:2.0
PRODID:-//www.adoptionnetwork.org//NONSGML kigkonsult.se iCalcreator 2.30.1
 0//
CALSCALE:GREGORIAN
METHOD:PUBLISH
UID:f13623f5-0ecc-499e-8cd0-59e0392fd762
X-WR-CALDESC:Join us as we check out the sites\, nature centers\, trails\, 
 and wildlife in our beautiful Metropark system!\n \nCall or email Donikea 
 Austin\, Program Manager\, with any questions. \n
X-WR-RELCALID:f7203169ff2d4fbf22e956f98bb1a2e7
X-WR-TIMEZONE:America/New_York
BEGIN:VTIMEZONE
TZID:America/New_York
BEGIN:STANDARD
TZNAME:EST
DTSTART:20201101T020000
TZOFFSETFROM:-0400
TZOFFSETTO:-0500
RDATE:20211107T020000
RDATE:20221106T020000
END:STANDARD
BEGIN:DAYLIGHT
TZNAME:EDT
DTSTART:20210314T020000
TZOFFSETFROM:-0500
TZOFFSETTO:-0400
RDATE:20220313T020000
END:DAYLIGHT
END:VTIMEZONE
BEGIN:VEVENT
UID:a48699e9-c0f8-4ccd-b629-e5c4a41f17a8
DTSTAMP:20260421T210950Z
DESCRIPTION:Join us as we check out the sites\, nature centers\, trails\, a
 nd wildlife in our beautiful Metropark system!\n \nCall or email Donikea A
 ustin\, Program Manager\, with any questions. \n
DTSTART;TZID=America/New_York:20210724T110000
DTEND;TZID=America/New_York:20210724T120000
LOCATION:Cleveland Metroparks -West Creek Reservation Meet outside at the W
 atershed Stewardship Center \, 2277 West Ridgewood Drive\, Parma\, Clevela
 nd\, OH 44134 US
SUMMARY:Family Ties Park Pals - West Creek Reservation (In-Person)
END:VEVENT
END:VCALENDAR
