BEGIN:VCALENDAR
VERSION:2.0
PRODID:-//www.adoptionnetwork.org//NONSGML kigkonsult.se iCalcreator 2.30.1
 0//
CALSCALE:GREGORIAN
METHOD:PUBLISH
UID:313efbb5-f471-4194-9485-ff86ad23993e
X-WR-CALDESC:Adoptive\, kinship\, and foster parents and guardians are invi
 ted to join us for a discussion on parenting\, family\, and the unique joy
 s and challenges of being a part of an adoptive\, kinship\, or foster fami
 ly.\n\nIn this session\, we will discuss what would happen to your family 
 dynamic if\, for just one day\, you said. 'Yes!' to everything your kids w
 anted to do? We will use the book and Jennifer Garner movie\, 'Yes Day' to
  have a discussion on rules and boundaries\, plus giving kids control wher
 e it makes sense. Parents are not required to watch the movie or read the 
 book to participate.\n\nCertificates of Attendance will be available.
X-WR-RELCALID:4a1fb9e6fa408789913ccaca4112abf7
X-WR-TIMEZONE:America/New_York
BEGIN:VTIMEZONE
TZID:America/New_York
BEGIN:STANDARD
TZNAME:EST
DTSTART:20201101T020000
TZOFFSETFROM:-0400
TZOFFSETTO:-0500
RDATE:20211107T020000
RDATE:20221106T020000
END:STANDARD
BEGIN:DAYLIGHT
TZNAME:EDT
DTSTART:20210314T020000
TZOFFSETFROM:-0500
TZOFFSETTO:-0400
RDATE:20220313T020000
END:DAYLIGHT
END:VTIMEZONE
BEGIN:VEVENT
UID:3ab78780-a125-4a05-a035-aac59838c35f
DTSTAMP:20260421T210348Z
DESCRIPTION:Adoptive\, kinship\, and foster parents and guardians are invit
 ed to join us for a discussion on parenting\, family\, and the unique joys
  and challenges of being a part of an adoptive\, kinship\, or foster famil
 y.\n\nIn this session\, we will discuss what would happen to your family d
 ynamic if\, for just one day\, you said. 'Yes!' to everything your kids wa
 nted to do? We will use the book and Jennifer Garner movie\, 'Yes Day' to 
 have a discussion on rules and boundaries\, plus giving kids control where
  it makes sense. Parents are not required to watch the movie or read the b
 ook to participate.\n\nCertificates of Attendance will be available.
DTSTART;TZID=America/New_York:20210727T183000
DTEND;TZID=America/New_York:20210727T200000
LOCATION:Virtual Meeting
SUMMARY:Yes Day! - Parenting Discussion (Virtual)
END:VEVENT
END:VCALENDAR
