BEGIN:VCALENDAR
VERSION:2.0
PRODID:-//www.adoptionnetwork.org//NONSGML kigkonsult.se iCalcreator 2.30.1
 0//
CALSCALE:GREGORIAN
METHOD:PUBLISH
UID:01ba2fcb-06c7-4303-a270-bd8a5de69eb6
X-WR-CALDESC:As part of our Family Ties program\, youth Youth (age 11-18) e
 ngage in age-appropriate discussions and activities with peers to explore 
 self and group topics in terms of adoption and foster care\, as well as yo
 uth development. Youth are currently meeting separately (one meeting for g
 irls and one for guys) using a virtual format. For youth who are part of a
 n adoptive\, kinship or foster family.\n\nGirls are meeting the second Wed
 nesday of every month. Contact Danielle Gibson for the link to access the 
 meeting.\n\nGirl Code - A community of young women who empower\, encourage
  and lift up one another as they reflect on matters concerning\, affecting
  and important to them.
X-WR-RELCALID:d1340dfae32b69aa953c5a099a444068
X-WR-TIMEZONE:America/New_York
BEGIN:VTIMEZONE
TZID:America/New_York
BEGIN:STANDARD
TZNAME:EST
DTSTART:20201101T020000
TZOFFSETFROM:-0400
TZOFFSETTO:-0500
RDATE:20211107T020000
RDATE:20221106T020000
END:STANDARD
BEGIN:DAYLIGHT
TZNAME:EDT
DTSTART:20210314T020000
TZOFFSETFROM:-0500
TZOFFSETTO:-0400
RDATE:20220313T020000
END:DAYLIGHT
END:VTIMEZONE
BEGIN:VEVENT
UID:1972d64c-e217-409c-b919-a416b2308a69
DTSTAMP:20260421T194318Z
DESCRIPTION:As part of our Family Ties program\, youth Youth (age 11-18) en
 gage in age-appropriate discussions and activities with peers to explore s
 elf and group topics in terms of adoption and foster care\, as well as you
 th development. Youth are currently meeting separately (one meeting for gi
 rls and one for guys) using a virtual format. For youth who are part of an
  adoptive\, kinship or foster family.\n\nGirls are meeting the second Wedn
 esday of every month. Contact Danielle Gibson for the link to access the m
 eeting.\n\nGirl Code - A community of young women who empower\, encourage 
 and lift up one another as they reflect on matters concerning\, affecting 
 and important to them.
DTSTART;TZID=America/New_York:20210810T180000
DTEND;TZID=America/New_York:20210810T183000
LOCATION:Online using Google Meet
SUMMARY:Girl Code - Virtual Youth Group
END:VEVENT
END:VCALENDAR
