BEGIN:VCALENDAR
VERSION:2.0
PRODID:-//www.adoptionnetwork.org//NONSGML kigkonsult.se iCalcreator 2.30.1
 0//
CALSCALE:GREGORIAN
METHOD:PUBLISH
UID:22619df9-aa42-472d-9486-22de63fe5540
X-WR-CALDESC:Adoption Network Cleveland’s General Discussion Meetings provi
 de an opportunity for all those who are impacted by adoption to share thei
 r perspectives and learn from each other. \n\nThis particular meeting will
  have a special topic:  Exploring Our Fears Surrounding Adoption \nThere c
 an be many fears surrounding adoption\, for all parties involved.  Adoptiv
 e parents may fear how their family will react to their adoption plans or 
 to their openness in their adoption.  In a closed adoption\, they might fe
 ar the birth family\, or fear if the adoptee wants to search.  Adoptees mi
 ght be reluctant to tell their adoptive parents they want to search\, or h
 ave been reunited.  And birth parents can fear the relinquished child will
  reject them or judge them. This meeting will explore these fears and addr
 ess how such fears can be overcome.  Join us in exploring our fears and mo
 re\, as we address them from all perspectives of the triad. \n\nThis meeti
 ng will be a virtual meeting facilitated by Kim and Denice. Our Virtual Ge
 neral Discussion Meetings meet via the Google Meet platform (which can be 
 accessed through a home computer/laptop\, tablet\, or mobile phone) and wi
 ll require an internet connection or phone data connection. \n\nPre-regist
 ration is required. Click REGISTER NOW\, enter the number of attendees\, y
 our information\, and then click COMPLETE REGISTRATION.\n\nOur General Dis
 cussion Meetings with specific topics fill up quickly. Space is limited to
  ensure a reasonable number of participants to engage in discussion\, so p
 lease register in advance. We keep a waiting list once we meet the registr
 ation limit\, so if you are registered and unable to attend\, please let u
 s know so we can open that spot up for someone else.\n\nIf registration ha
 s reached capacity and you would like to be placed on the waiting list\, p
 lease email Deb Wentz at Deborah.wentz@adoptionnetwork.org with the date o
 f the event and a request to be placed on the waiting list. Thank you!
X-WR-RELCALID:5d563dc0a9626ea851b8d610af0fbabd
X-WR-TIMEZONE:America/New_York
BEGIN:VTIMEZONE
TZID:America/New_York
BEGIN:STANDARD
TZNAME:EST
DTSTART:20201101T020000
TZOFFSETFROM:-0400
TZOFFSETTO:-0500
RDATE:20211107T020000
RDATE:20221106T020000
END:STANDARD
BEGIN:DAYLIGHT
TZNAME:EDT
DTSTART:20210314T020000
TZOFFSETFROM:-0500
TZOFFSETTO:-0400
RDATE:20220313T020000
END:DAYLIGHT
END:VTIMEZONE
BEGIN:VEVENT
UID:bd29fb99-97d3-4602-a335-cb59a25c9514
DTSTAMP:20260421T194030Z
DESCRIPTION:Adoption Network Cleveland’s General Discussion Meetings provid
 e an opportunity for all those who are impacted by adoption to share their
  perspectives and learn from each other. \n\nThis particular meeting will 
 have a special topic:  Exploring Our Fears Surrounding Adoption \nThere ca
 n be many fears surrounding adoption\, for all parties involved.  Adoptive
  parents may fear how their family will react to their adoption plans or t
 o their openness in their adoption.  In a closed adoption\, they might fea
 r the birth family\, or fear if the adoptee wants to search.  Adoptees mig
 ht be reluctant to tell their adoptive parents they want to search\, or ha
 ve been reunited.  And birth parents can fear the relinquished child will 
 reject them or judge them. This meeting will explore these fears and addre
 ss how such fears can be overcome.  Join us in exploring our fears and mor
 e\, as we address them from all perspectives of the triad. \n\nThis meetin
 g will be a virtual meeting facilitated by Kim and Denice. Our Virtual Gen
 eral Discussion Meetings meet via the Google Meet platform (which can be a
 ccessed through a home computer/laptop\, tablet\, or mobile phone) and wil
 l require an internet connection or phone data connection. \n\nPre-registr
 ation is required. Click REGISTER NOW\, enter the number of attendees\, yo
 ur information\, and then click COMPLETE REGISTRATION.\n\nOur General Disc
 ussion Meetings with specific topics fill up quickly. Space is limited to 
 ensure a reasonable number of participants to engage in discussion\, so pl
 ease register in advance. We keep a waiting list once we meet the registra
 tion limit\, so if you are registered and unable to attend\, please let us
  know so we can open that spot up for someone else.\n\nIf registration has
  reached capacity and you would like to be placed on the waiting list\, pl
 ease email Deb Wentz at Deborah.wentz@adoptionnetwork.org with the date of
  the event and a request to be placed on the waiting list. Thank you!
DTSTART;TZID=America/New_York:20210811T190000
DTEND;TZID=America/New_York:20210811T210000
LOCATION:Virtual Meeting using Google Meets
SUMMARY:VIRTUAL General Meeting (Led by Kim/Denice)
END:VEVENT
END:VCALENDAR
