BEGIN:VCALENDAR
VERSION:2.0
PRODID:-//www.adoptionnetwork.org//NONSGML kigkonsult.se iCalcreator 2.30.1
 0//
CALSCALE:GREGORIAN
METHOD:PUBLISH
UID:a412972e-cfec-4c23-8aff-492e998025f1
X-WR-CALDESC:This event has been cancelled due to Rain!!!\n\nPlease join us
  on our alternative date: Thursday\, August 19\n\n\nJoin us for smores\, t
 ie-dye and games for the whole family!\n\n \nCall or email Donikea Austin\
 , Program Manager\, with any questions. \n
X-WR-RELCALID:e847c21bbecbaee8bedb67f33c74078f
X-WR-TIMEZONE:America/New_York
BEGIN:VTIMEZONE
TZID:America/New_York
BEGIN:STANDARD
TZNAME:EST
DTSTART:20201101T020000
TZOFFSETFROM:-0400
TZOFFSETTO:-0500
RDATE:20211107T020000
RDATE:20221106T020000
END:STANDARD
BEGIN:DAYLIGHT
TZNAME:EDT
DTSTART:20210314T020000
TZOFFSETFROM:-0500
TZOFFSETTO:-0400
RDATE:20220313T020000
END:DAYLIGHT
END:VTIMEZONE
BEGIN:VEVENT
UID:5776e605-310e-425f-a1b8-49c0207c96f3
DTSTAMP:20260421T194133Z
DESCRIPTION:This event has been cancelled due to Rain!!!\n\nPlease join us 
 on our alternative date: Thursday\, August 19\n\n\nJoin us for smores\, ti
 e-dye and games for the whole family!\n\n \nCall or email Donikea Austin\,
  Program Manager\, with any questions. \n
DTSTART;TZID=America/New_York:20210812T183000
DTEND;TZID=America/New_York:20210812T200000
LOCATION:Lakewood Park\, 14532 Lake Ave\,\,  Lakewood\, OH 44107 US
SUMMARY:Cancelled Due to Rain!  Camp ANC at Lakewood Park
END:VEVENT
END:VCALENDAR
