BEGIN:VCALENDAR
VERSION:2.0
PRODID:-//www.adoptionnetwork.org//NONSGML kigkonsult.se iCalcreator 2.30.1
 0//
CALSCALE:GREGORIAN
METHOD:PUBLISH
UID:ef9a8de4-acbc-4f46-bd2f-74a61759a30e
X-WR-CALDESC:Saturday August 14\, 9am to 12pm & 1pm to 4pm\, \nA World of O
 pportunities: High-Risk Behaviors are Hidden in Plain Sight #988-50\,\nTra
 iner Tamme Smith\n\nTo register: private agency foster parents should have
  their agency worker contact Nefertiti McKinney at (216) 881-4048\; public
  agency foster parents should register online at the OCWTP website\; adopt
 ive and kinship parents can contact Julius Jackson directly.
X-WR-RELCALID:740cd7b4504d4e005b41083155896cb4
X-WR-TIMEZONE:America/New_York
BEGIN:VTIMEZONE
TZID:America/New_York
BEGIN:STANDARD
TZNAME:EST
DTSTART:20201101T020000
TZOFFSETFROM:-0400
TZOFFSETTO:-0500
RDATE:20211107T020000
RDATE:20221106T020000
END:STANDARD
BEGIN:DAYLIGHT
TZNAME:EDT
DTSTART:20210314T020000
TZOFFSETFROM:-0500
TZOFFSETTO:-0400
RDATE:20220313T020000
END:DAYLIGHT
END:VTIMEZONE
BEGIN:VEVENT
UID:5284205c-f79c-4f7e-a934-8d70f104311f
DTSTAMP:20260421T193850Z
DESCRIPTION:Saturday August 14\, 9am to 12pm & 1pm to 4pm\, \nA World of Op
 portunities: High-Risk Behaviors are Hidden in Plain Sight #988-50\,\nTrai
 ner Tamme Smith\n\nTo register: private agency foster parents should have 
 their agency worker contact Nefertiti McKinney at (216) 881-4048\; public 
 agency foster parents should register online at the OCWTP website\; adopti
 ve and kinship parents can contact Julius Jackson directly.
DTSTART;TZID=America/New_York:20210814T090000
DTEND;TZID=America/New_York:20210814T160000
LOCATION:4614 Prospect Avenue\, Adoption Network Cleveland\, Ste. 550\, Cle
 veland\, OH 44103 US
SUMMARY:Parent Training - A World of Opportunities: High Risk Behaviors are
  Hidden in Plain Sight (#9988-50)
END:VEVENT
END:VCALENDAR
