BEGIN:VCALENDAR
VERSION:2.0
PRODID:-//www.adoptionnetwork.org//NONSGML kigkonsult.se iCalcreator 2.30.1
 0//
CALSCALE:GREGORIAN
METHOD:PUBLISH
UID:7129ab83-1b48-46b0-b8d3-b7f827bc50b4
X-WR-CALDESC:Join us for smores\, tie-dye and games for the whole family!\n
 Rain date: August 19\n \nCall or email Donikea Austin\, Program Manager\, 
 with any questions. \n\nOur rain date will be July 19\, 6:30-8 pm.
X-WR-RELCALID:96eadd0cc6cdfc4c74157468b8c8dfe9
X-WR-TIMEZONE:America/New_York
BEGIN:VTIMEZONE
TZID:America/New_York
BEGIN:STANDARD
TZNAME:EST
DTSTART:20201101T020000
TZOFFSETFROM:-0400
TZOFFSETTO:-0500
RDATE:20211107T020000
RDATE:20221106T020000
END:STANDARD
BEGIN:DAYLIGHT
TZNAME:EDT
DTSTART:20210314T020000
TZOFFSETFROM:-0500
TZOFFSETTO:-0400
RDATE:20220313T020000
END:DAYLIGHT
END:VTIMEZONE
BEGIN:VEVENT
UID:1b0d1ea0-eba7-4957-8abe-f07cd43b5ad8
DTSTAMP:20260421T194344Z
DESCRIPTION:Join us for smores\, tie-dye and games for the whole family!\nR
 ain date: August 19\n \nCall or email Donikea Austin\, Program Manager\, w
 ith any questions. \n\nOur rain date will be July 19\, 6:30-8 pm.
DTSTART;TZID=America/New_York:20210819T183000
DTEND;TZID=America/New_York:20210819T200000
LOCATION:Lakewood Park\, 14532 Lake Ave\,\,  Lakewood\, OH 44107 US
SUMMARY:Rescheduled! Camp ANC at Lakewood Park
END:VEVENT
END:VCALENDAR
