BEGIN:VCALENDAR
VERSION:2.0
PRODID:-//www.adoptionnetwork.org//NONSGML kigkonsult.se iCalcreator 2.30.1
 0//
CALSCALE:GREGORIAN
METHOD:PUBLISH
UID:4be7b8dc-5c50-46f6-bce2-390231b1ef98
X-WR-CALDESC:Hosted by our board member\, Jarrett Pratt\, in celebration of
  his 40th Birthday and Adoption Network Cleveland!\nWe invite you to Paint
 \, Poetry\, and Patterns on August 20\, 2021 from 6:00-9:30 pm at the Capt
 iv8 Potato Bar at 2049 East 8th Street\, Cleveland\, OH 44115\nTickets can
  be purchased on Eventbrite.\nhttps://www.eventbrite.com/.../paint-poetry-
 and-patterns...\n$40/Person\n--Paint and sip at 6:00 pm\n--Live jazz and s
 poken word selections\n--Hors d'oeuvres\n--Minority business raffle\n--Doo
 r prizes\n\nFashion-friendly - Patterns are the theme\, summer colors welc
 omed\, have fun\, be comfortable!\nJoin Jarrett and support Adoption Netwo
 rk Cleveland with an evening out!\n\nFind details and registration on Even
 tbrite. http://ow.ly/fwTC50FL1mt
X-WR-RELCALID:9a0b77198f652ad63a83d1ee2a134f26
X-WR-TIMEZONE:America/New_York
BEGIN:VTIMEZONE
TZID:America/New_York
BEGIN:STANDARD
TZNAME:EST
DTSTART:20201101T020000
TZOFFSETFROM:-0400
TZOFFSETTO:-0500
RDATE:20211107T020000
RDATE:20221106T020000
END:STANDARD
BEGIN:DAYLIGHT
TZNAME:EDT
DTSTART:20210314T020000
TZOFFSETFROM:-0500
TZOFFSETTO:-0400
RDATE:20220313T020000
END:DAYLIGHT
END:VTIMEZONE
BEGIN:VEVENT
UID:a041d0bd-9858-4130-956f-f38da54ca603
DTSTAMP:20260421T193402Z
DESCRIPTION:Hosted by our board member\, Jarrett Pratt\, in celebration of 
 his 40th Birthday and Adoption Network Cleveland!\nWe invite you to Paint\
 , Poetry\, and Patterns on August 20\, 2021 from 6:00-9:30 pm at the Capti
 v8 Potato Bar at 2049 East 8th Street\, Cleveland\, OH 44115\nTickets can 
 be purchased on Eventbrite.\nhttps://www.eventbrite.com/.../paint-poetry-a
 nd-patterns...\n$40/Person\n--Paint and sip at 6:00 pm\n--Live jazz and sp
 oken word selections\n--Hors d'oeuvres\n--Minority business raffle\n--Door
  prizes\n\nFashion-friendly - Patterns are the theme\, summer colors welco
 med\, have fun\, be comfortable!\nJoin Jarrett and support Adoption Networ
 k Cleveland with an evening out!\n\nFind details and registration on Event
 brite. http://ow.ly/fwTC50FL1mt
DTSTART;TZID=America/New_York:20210820T180000
DTEND;TZID=America/New_York:20210820T213000
LOCATION:Captiv8\, 2049 East 8th Street\, Cleveland\, OH 44115 US
SUMMARY:Paint\, Poetry and Patterns
END:VEVENT
END:VCALENDAR
