BEGIN:VCALENDAR
VERSION:2.0
PRODID:-//www.adoptionnetwork.org//NONSGML kigkonsult.se iCalcreator 2.30.1
 0//
CALSCALE:GREGORIAN
METHOD:PUBLISH
UID:fa0d316f-5992-4026-956f-e0cb1b9eb36d
X-WR-CALDESC:Join us as we check out the sites\, nature centers\, trails\, 
 and wildlife in our beautiful Metropark system!\n\nMeet at the main entran
 ce off of Euclid Creek Parkway and follow\nthe signs. 1198 Highland Road\,
  Euclid\n \nCall or email Donikea Austin\, Program Manager\, with any ques
 tions. \n
X-WR-RELCALID:7717dd4d2df243f76a5863455f9f131f
X-WR-TIMEZONE:America/New_York
BEGIN:VTIMEZONE
TZID:America/New_York
BEGIN:STANDARD
TZNAME:EST
DTSTART:20201101T020000
TZOFFSETFROM:-0400
TZOFFSETTO:-0500
RDATE:20211107T020000
RDATE:20221106T020000
END:STANDARD
BEGIN:DAYLIGHT
TZNAME:EDT
DTSTART:20210314T020000
TZOFFSETFROM:-0500
TZOFFSETTO:-0400
RDATE:20220313T020000
END:DAYLIGHT
END:VTIMEZONE
BEGIN:VEVENT
UID:5b9d2794-795f-4ff3-a79a-7e42fdb1ceb5
DTSTAMP:20260421T194030Z
DESCRIPTION:Join us as we check out the sites\, nature centers\, trails\, a
 nd wildlife in our beautiful Metropark system!\n\nMeet at the main entranc
 e off of Euclid Creek Parkway and follow\nthe signs. 1198 Highland Road\, 
 Euclid\n \nCall or email Donikea Austin\, Program Manager\, with any quest
 ions. \n
DTSTART;TZID=America/New_York:20210821T110000
DTEND;TZID=America/New_York:20210821T120000
LOCATION:Cleveland Metroparks -Euclid Creek Reservation\, 1198 Highland Roa
 d\, Euclid\, Cleveland\, OH 44117 US
SUMMARY:Family Ties Park Pals - Euclid Creek Reservation (In-Person)
END:VEVENT
END:VCALENDAR
