BEGIN:VCALENDAR
VERSION:2.0
PRODID:-//www.adoptionnetwork.org//NONSGML kigkonsult.se iCalcreator 2.30.1
 0//
CALSCALE:GREGORIAN
METHOD:PUBLISH
UID:d3dacfe1-1b1e-49ab-a480-091aa1883c4c
X-WR-CALDESC:Our Annual Summer Cookout is a free event for anyone connected
  to Adoption Network Cleveland. Each year\, we gather for a fun afternoon 
 of games\, activities\, entertainment\, and food. Please join us\, we woul
 d love to see you!\n\nThis year to insure the safety of our guests\, Adopt
 ion Network will be providing packaged hot dogs and drinks. Families are e
 ncouraged to bring a picnic with sides for their family. Please note - Thi
 s will not be a potluck and families will not be sharing food.\n\nLocation
 : Memphis Picnic Shelter - Cleveland Metroparks: Memphis Picnic area is lo
 cated at the intersection of Memphis Avenue and Tiedman Road in Big Creek 
 Reservation.
X-WR-RELCALID:d49d87f4588fd3d46bc0f17d0b95cf53
X-WR-TIMEZONE:America/New_York
BEGIN:VTIMEZONE
TZID:America/New_York
BEGIN:STANDARD
TZNAME:EST
DTSTART:20201101T020000
TZOFFSETFROM:-0400
TZOFFSETTO:-0500
RDATE:20211107T020000
RDATE:20221106T020000
END:STANDARD
BEGIN:DAYLIGHT
TZNAME:EDT
DTSTART:20210314T020000
TZOFFSETFROM:-0500
TZOFFSETTO:-0400
RDATE:20220313T020000
END:DAYLIGHT
END:VTIMEZONE
BEGIN:VEVENT
UID:91e09c4d-6e2f-4796-bcf5-74f355ce8bba
DTSTAMP:20260421T192838Z
DESCRIPTION:Our Annual Summer Cookout is a free event for anyone connected 
 to Adoption Network Cleveland. Each year\, we gather for a fun afternoon o
 f games\, activities\, entertainment\, and food. Please join us\, we would
  love to see you!\n\nThis year to insure the safety of our guests\, Adopti
 on Network will be providing packaged hot dogs and drinks. Families are en
 couraged to bring a picnic with sides for their family. Please note - This
  will not be a potluck and families will not be sharing food.\n\nLocation:
  Memphis Picnic Shelter - Cleveland Metroparks: Memphis Picnic area is loc
 ated at the intersection of Memphis Avenue and Tiedman Road in Big Creek R
 eservation.
DTSTART;TZID=America/New_York:20210829T140000
DTEND;TZID=America/New_York:20210829T170000
LOCATION:Memphis Picnic Shelter - Cleveland Metroparks
SUMMARY:Annual Summer Cookout
END:VEVENT
END:VCALENDAR
